BEGIN:VCALENDAR
VERSION:2.0
PRODID:-//ChamberMaster//Event Calendar 2.0//EN
METHOD:PUBLISH
X-PUBLISHED-TTL:P3D
REFRESH-INTERVAL:P3D
CALSCALE:GREGORIAN
BEGIN:VEVENT
DTSTART:20191021T190000Z
DTEND:20191021T200000Z
X-MICROSOFT-CDO-ALLDAYEVENT:FALSE
SUMMARY:Becoming ATHENA: Leading the Way - Locust Grove Estate (Excursion)
DESCRIPTION:Learn about this historic landmark on the Hudson River as you stroll through its historic gardens and trails.
X-ALT-DESC;FMTTYPE=text/html:<br />\n<strong><span style="font-size: 18px\;"><span style="font-family: times new roman\;">Learn about this historic landmark on the Hudson River as you stroll through its historic gardens and trails.</span></span></strong>
LOCATION:
UID:e.2770.10480935
SEQUENCE:3
DTSTAMP:20260422T183308Z
URL:https://business.dcrcoc.org/events/details/becoming-athena-leading-the-way-locust-grove-estate-excursion-10480935
END:VEVENT

END:VCALENDAR
