BEGIN:VCALENDAR
VERSION:2.0
PRODID:-//ChamberMaster//Event Calendar 2.0//EN
METHOD:PUBLISH
X-PUBLISHED-TTL:P3D
REFRESH-INTERVAL:P3D
CALSCALE:GREGORIAN
BEGIN:VEVENT
DTSTART:20191022T173000Z
DTEND:20191022T193000Z
X-MICROSOFT-CDO-ALLDAYEVENT:FALSE
SUMMARY:Becoming ATHENA: Leading the Way - Unshattered Handbags Tour (Excursion)
DESCRIPTION:Create your own handbag and tour this all-woman business enterprise which employs females winning their fight against addictions.
X-ALT-DESC;FMTTYPE=text/html:<br />\n<span style="font-size: 18px\;"><span style="font-family: times new roman\;"><strong>Create your own handbag and tour this all-woman business enterprise which employs females winning their fight against addictions.</strong></span></span>
LOCATION:
UID:e.2770.10480942
SEQUENCE:3
DTSTAMP:20260422T183324Z
URL:https://business.dcrcoc.org/events/details/becoming-athena-leading-the-way-unshattered-handbags-tour-excursion-10480942
END:VEVENT

END:VCALENDAR
