BEGIN:VCALENDAR
VERSION:2.0
PRODID:-//ChamberMaster//Event Calendar 2.0//EN
METHOD:PUBLISH
X-PUBLISHED-TTL:P3D
REFRESH-INTERVAL:P3D
CALSCALE:GREGORIAN
BEGIN:VEVENT
DTSTART:20191021T190000Z
DTEND:20191021T200000Z
X-MICROSOFT-CDO-ALLDAYEVENT:FALSE
SUMMARY:Becoming ATHENA: Leading the Way - Vassar College Walking Tour (Excursion)
DESCRIPTION:Appreciate the prestigious Vassar College. Founded in 1861\, Vassar College is known for its pioneering achievements in education\, for its long history in curricular innovation\, and for its stunning campus.
X-ALT-DESC;FMTTYPE=text/html:<br />\n<span style="font-size: 18px\;"><span style="font-family: times new roman\;"><strong>Appreciate the prestigious Vassar College. Founded in 1861\, Vassar College is known for its pioneering achievements in&nbsp\;education\,&nbsp\;for&nbsp\;its long history in curricular innovation\, and&nbsp\;for&nbsp\;its stunning campus.</strong></span></span>
LOCATION:
UID:e.2770.10480934
SEQUENCE:3
DTSTAMP:20260422T183309Z
URL:https://business.dcrcoc.org/events/details/becoming-athena-leading-the-way-vassar-college-walking-tour-excursion-10480934
END:VEVENT

END:VCALENDAR
