BEGIN:VCALENDAR
VERSION:2.0
PRODID:-//ChamberMaster//Event Calendar 2.0//EN
METHOD:PUBLISH
X-PUBLISHED-TTL:P3D
REFRESH-INTERVAL:P3D
CALSCALE:GREGORIAN
BEGIN:VEVENT
DTSTART:20191021T190000Z
DTEND:20191021T200000Z
X-MICROSOFT-CDO-ALLDAYEVENT:FALSE
SUMMARY:Becoming ATHENA: Leading the Way - Walkway Over the Hudson (Excursion)
DESCRIPTION:Enjoy an Ambassador guided tour on the longest pedestrian bridge in the world. This linear park spans 1.28 miles across the Hudson River and showcases 360 degree views of the Hudson River Valley.
X-ALT-DESC;FMTTYPE=text/html:<br />\n<span style="font-size: 18px\;"><span style="font-family: times new roman\;"><strong>Enjoy an Ambassador guided tour on the longest pedestrian bridge in the world. This linear park spans 1.28 miles across the Hudson River and showcases 360 degree views of the Hudson River Valley.</strong></span></span>
LOCATION:
UID:e.2770.10480936
SEQUENCE:3
DTSTAMP:20260422T183151Z
URL:https://business.dcrcoc.org/events/details/becoming-athena-leading-the-way-walkway-over-the-hudson-excursion-10480936
END:VEVENT

END:VCALENDAR
