BEGIN:VCALENDAR
VERSION:2.0
PRODID:-//ChamberMaster//Event Calendar 2.0//EN
METHOD:PUBLISH
X-PUBLISHED-TTL:P3D
REFRESH-INTERVAL:P3D
CALSCALE:GREGORIAN
BEGIN:VEVENT
DTSTART:20200201T230000Z
DTEND:20200202T020000Z
X-MICROSOFT-CDO-ALLDAYEVENT:FALSE
SUMMARY:Beefsteak at the CIA
DESCRIPTION:Let the camaraderie commence! The Culinary Institute of America's annual Beefsteak dinner returns to Farquharson Hall on February 1. Join us for unlimited great food and fun as you dig into this classic feast complete with CIA Beefsteak Blonde beer and local Taconic Bourbon. Sing along with a six-piece brass band\, make new friends\, and transport yourself back in time.
X-ALT-DESC;FMTTYPE=text/html:Let the camaraderie commence! The Culinary Institute of America&#39\;s annual Beefsteak dinner returns to Farquharson Hall on February 1. Join us for unlimited great food and fun as you dig into this classic feast complete with CIA Beefsteak Blonde beer and local Taconic Bourbon. Sing along with a six-piece brass band\, make new friends\, and transport yourself back in time.
LOCATION:Farquharson Hall at The Culinary Institute of America 1946 Campus Drive (Route 9) Hyde Park\, NY 12538
UID:e.2770.10481472
SEQUENCE:3
DTSTAMP:20260422T121239Z
URL:https://business.dcrcoc.org/events/details/beefsteak-at-the-cia-10481472
END:VEVENT

END:VCALENDAR
