BEGIN:VCALENDAR
VERSION:2.0
PRODID:-//ChamberMaster//Event Calendar 2.0//EN
METHOD:PUBLISH
X-PUBLISHED-TTL:P3D
REFRESH-INTERVAL:P3D
CALSCALE:GREGORIAN
BEGIN:VEVENT
DTSTART:20171202T143000Z
DTEND:20171202T173000Z
X-MICROSOFT-CDO-ALLDAYEVENT:FALSE
SUMMARY:Berenstain Bears Reading & Activity
DESCRIPTION:Join us for a Special Reading of 'Visit The Credit Union'! Date: Saturday\, December 2 Two Readings: 9:30am & 11:30am Where: Fishkill Branch\, 584 Route 9\, Fishkill Meet Brother & Sister Bear! Join us for a Special Reading of 'Visit The Credit Union'! Date: Saturday\, December 2 Two Readings: 9:30am & 11:30am Where: Fishkill Branch\, 584 Route 9\, Fishkill Join us for a Special Reading of 'Visit The Join Mid-Hudson Valley Federal Credit Union for a special reading of 'Visit the Credit Union'! Meet Brother & Sister Bear! Plus\, when you donate $5 for a child in need\, we will match your donation and give you your own stuff a bear! Donations will be accepted at the event - not in advance. Event is for children 10 and under. Registration is REQUIRED and space is limited. Sign up at mhvfcu.com/event
X-ALT-DESC;FMTTYPE=text/html:Join us for a Special Reading of &#39\;Visit The Credit Union&#39\;! Date: Saturday\, December 2 Two Readings: 9:30am &amp\; 11:30am Where: Fishkill Branch\, 584 Route 9\, Fishkill Meet Brother &amp\; Sister Bear! Join us for a Special Reading of &#39\;Visit The Credit Union&#39\;! Date: Saturday\, December 2 Two Readings: 9:30am &amp\; 11:30am Where: Fishkill Branch\, 584 Route 9\, Fishkill Join us for a Special Reading of &#39\;Visit The Join Mid-Hudson Valley Federal Credit Union for a special reading of &#39\;Visit the Credit Union&#39\;! Meet Brother &amp\; Sister Bear! Plus\, when you donate $5 for a child in need\, we will match your donation and give you your own stuff a bear! Donations will be accepted at the event - not in advance. Event is for children 10 and under. Registration is REQUIRED and space is limited. Sign up at mhvfcu.com/event
LOCATION:Mid-Hudson Valley Federal Credit Union Fishkill Branch 584 Route 9\, Fishkill
UID:e.2770.10476622
SEQUENCE:3
DTSTAMP:20260426T004810Z
URL:https://business.dcrcoc.org/events/details/berenstain-bears-reading-activity-10476622
END:VEVENT

END:VCALENDAR
