BEGIN:VCALENDAR
VERSION:2.0
PRODID:-//ChamberMaster//Event Calendar 2.0//EN
METHOD:PUBLISH
X-PUBLISHED-TTL:P3D
REFRESH-INTERVAL:P3D
CALSCALE:GREGORIAN
BEGIN:VEVENT
DTSTART:20171012T220000Z
DTEND:20171013T010000Z
X-MICROSOFT-CDO-ALLDAYEVENT:FALSE
SUMMARY:Best of Hudson Valley
DESCRIPTION:This annual Extravaganza celebrates the Best of Hudson Valley winner\, including the top-rated restaurants\, shops\, services\, and professionals--showcased in the October issue of Hudson Valley Magazine. The fun-filled evening features food and drink samples\, photo opportunities\, live music and more!
X-ALT-DESC;FMTTYPE=text/html:This annual Extravaganza celebrates the Best of Hudson Valley winner\, including the top-rated restaurants\, shops\, services\, and professionals--showcased in the October issue of Hudson Valley Magazine. The fun-filled evening features food and drink samples\, photo opportunities\, live music and more!
LOCATION:40 Civic Center Plaza\, The Poughkeepsie Grand\, Poughkeepsie\, NY\, 12601
UID:e.2770.10474494
SEQUENCE:3
DTSTAMP:20260426T033437Z
URL:https://business.dcrcoc.org/events/details/best-of-hudson-valley-10474494
END:VEVENT

END:VCALENDAR
