BEGIN:VCALENDAR
VERSION:2.0
PRODID:-//ChamberMaster//Event Calendar 2.0//EN
METHOD:PUBLISH
X-PUBLISHED-TTL:P3D
REFRESH-INTERVAL:P3D
CALSCALE:GREGORIAN
BEGIN:VEVENT
DTSTART:20191010T220000Z
DTEND:20191011T010000Z
X-MICROSOFT-CDO-ALLDAYEVENT:FALSE
SUMMARY:Best of Hudson Valley Party
DESCRIPTION:This annual extravaganza celebrates the Best of Hudson Valley winners\, including the top-rated restaurants\, shops\, services\, and professionals showcased in the October issue of Hudson Valley Magazine. The fun-filled evening features food and drink samples\, photo opportunities\, live music and more! No one under 21 will be admitted.
X-ALT-DESC;FMTTYPE=text/html:This annual extravaganza celebrates the Best of Hudson Valley winners\, including the top-rated restaurants\, shops\, services\, and professionals&ndash\;showcased in the October issue of Hudson Valley Magazine. The fun-filled evening features food and drink samples\, photo opportunities\, live music and more! No one under 21 will be admitted.
LOCATION:The Poughkeepsie Grand 40 Civic Center Plaza Poughkeepsie\, NY 12601
UID:e.2770.10480991
SEQUENCE:3
DTSTAMP:20260422T183325Z
URL:https://business.dcrcoc.org/events/details/best-of-hudson-valley-party-10-10-2019-10480991
END:VEVENT

END:VCALENDAR
