BEGIN:VCALENDAR
VERSION:2.0
PRODID:-//ChamberMaster//Event Calendar 2.0//EN
METHOD:PUBLISH
X-PUBLISHED-TTL:P3D
REFRESH-INTERVAL:P3D
CALSCALE:GREGORIAN
BEGIN:VEVENT
DTSTART:20180304T013000Z
DTEND:20180304T043000Z
X-MICROSOFT-CDO-ALLDAYEVENT:FALSE
SUMMARY:Bianca Carano returns to The Alley Kat!
DESCRIPTION:Don't miss the very talented acoustic artist Bianca Carano! You'll be taken by Bianca's exquisite performance as you enjoy The Alley Kat's celebrated gourmet wood fired pizza\, top shelf bar drinks & expansive variety of draft beer!\n\n\n\n \nCheck out the event details on our Facebook page:\n\nBianca Carano returns to The Alley Kat!?
X-ALT-DESC;FMTTYPE=text/html:<div><span style="color:rgb(75\, 79\, 86)\; font-family:system-ui\,-apple-system\,blinkmacsystemfont\,.sfnstext-regular\,sans-serif\; font-size:14px">Don&#39\;t miss the very talented acoustic artist Bianca Carano! You&#39\;ll be taken by Bianca&#39\;s exquisite performance as you enjoy The Alley Kat&#39\;s celebrated gourmet wood fired pizza\, top shelf bar drinks &amp\; expansive variety of draft beer!</span><br />\n<br />\n&nbsp\;</div>\nCheck out the event details on our Facebook page:<br />\n<a href="https://www.facebook.com/events/1896298000394103/">Bianca Carano returns to The Alley Kat!?</a><br />\n&nbsp\;
LOCATION:The Alley Kat 1677 US 9 Wappingers Falls\, New York\, NY 12590
UID:e.2770.10476827
SEQUENCE:3
DTSTAMP:20260425T210616Z
URL:https://business.dcrcoc.org/events/details/bianca-carano-returns-to-the-alley-kat-10476827
END:VEVENT

END:VCALENDAR
