BEGIN:VCALENDAR
VERSION:2.0
PRODID:-//ChamberMaster//Event Calendar 2.0//EN
METHOD:PUBLISH
X-PUBLISHED-TTL:P3D
REFRESH-INTERVAL:P3D
CALSCALE:GREGORIAN
BEGIN:VEVENT
DTSTART:20171112T010000Z
DTEND:20171112T040000Z
X-MICROSOFT-CDO-ALLDAYEVENT:FALSE
SUMMARY:Bloated Toad plays The Alley Kat!
DESCRIPTION:Bloated Toad is the Hudson Valleys newest Hard Rock/Metal Cover project with a sense of humor! Enjoy this fabulous band in our comfortable\, lively space with 14 varieties of draft beer\, drink specials and delicious food!\n\n\n\nCheck out the event details on our Facebook page:\n\n\n\nBloated Toad plays The Alley Kat!
X-ALT-DESC;FMTTYPE=text/html:<span style="color:rgb(75\, 79\, 86)\; font-family:sf optimized\,system-ui\,-apple-system\,blinkmacsystemfont\,.sfnstext-regular\,sans-serif\; font-size:14px">Bloated Toad is the Hudson Valleys newest Hard Rock/Metal Cover project with a sense of humor! Enjoy this fabulous band in our comfortable\, lively space with 14 varieties of draft beer\, drink specials and delicious food!</span><br />\n<br />\nCheck out the event details on our Facebook page:<br />\n<br />\n<a href="https://www.facebook.com/events/127402171281601/">Bloated Toad plays The Alley Kat!</a>
LOCATION:The Alley Kat 1677 US 9 Wappingers Falls\, New York\, NY 12590
UID:e.2770.10476548
SEQUENCE:3
DTSTAMP:20260426T020449Z
URL:https://business.dcrcoc.org/events/details/bloated-toad-plays-the-alley-kat-10476548
END:VEVENT

END:VCALENDAR
