BEGIN:VCALENDAR
VERSION:2.0
PRODID:-//ChamberMaster//Event Calendar 2.0//EN
METHOD:PUBLISH
X-PUBLISHED-TTL:P3D
REFRESH-INTERVAL:P3D
CALSCALE:GREGORIAN
BEGIN:VEVENT
DTSTART:20180310T013000Z
DTEND:20180310T043000Z
X-MICROSOFT-CDO-ALLDAYEVENT:FALSE
SUMMARY:Bloated Toad Returns to The Alley Kat!
DESCRIPTION:Bloated Toad is a show in a party in a show! So stop by and join the party with a huge variety of draft beer\, mixed drink specials and delicious food!\n\n \nCheck out the event details on our Facebook page:\n\nBloated Toad Returns to The Alley Kat!
X-ALT-DESC;FMTTYPE=text/html:<div><span style="color:rgb(75\, 79\, 86)\; font-family:system-ui\,-apple-system\,blinkmacsystemfont\,.sfnstext-regular\,sans-serif\; font-size:14px">Bloated Toad is a show in a party in a show! So stop by and join the party with a huge variety of draft beer\, mixed drink specials and delicious food!</span><br />\n&nbsp\;</div>\nCheck out the event details on our Facebook page:<br />\n<a href="https://www.facebook.com/events/171259313509712/">Bloated Toad Returns to The Alley Kat!</a>
LOCATION:The Alley Kat 1677 US 9 Wappingers Falls\, New York\, NY 12590
UID:e.2770.10476828
SEQUENCE:3
DTSTAMP:20260425T210525Z
URL:https://business.dcrcoc.org/events/details/bloated-toad-returns-to-the-alley-kat-03-09-2018-10476828
END:VEVENT

END:VCALENDAR
