BEGIN:VCALENDAR
VERSION:2.0
PRODID:-//ChamberMaster//Event Calendar 2.0//EN
METHOD:PUBLISH
X-PUBLISHED-TTL:P3D
REFRESH-INTERVAL:P3D
CALSCALE:GREGORIAN
BEGIN:VEVENT
DTSTART:20180413T223000Z
DTEND:20180413T233000Z
X-MICROSOFT-CDO-ALLDAYEVENT:FALSE
SUMMARY:BodyAttack 100 Fundraiser for Angels of Light
DESCRIPTION:Join us at Gold's Gym LaGrange (258 Titusville Road) as they host BodyAttack 100 with all proceeds to benefit Angels of Light.\n\n\n\nClick here to register or for more information.
X-ALT-DESC;FMTTYPE=text/html:<p>Join us at Gold&#39\;s Gym LaGrange (258 Titusville Road) as they host BodyAttack 100 with all proceeds to benefit Angels of Light.<br />\n<br />\n<a href="http://www.angelsoflighthudsonvalley.org/events">Click here to register or for more information.</a></p>\n\n<p>&nbsp\;</p>\n
LOCATION:Gold's Gym LaGrange - 258 Titusville Road\, Poughkeepsie\, NY
UID:e.2770.10476869
SEQUENCE:3
DTSTAMP:20260425T195111Z
URL:https://business.dcrcoc.org/events/details/bodyattack-100-fundraiser-for-angels-of-light-10476869
END:VEVENT

END:VCALENDAR
