BEGIN:VCALENDAR
VERSION:2.0
PRODID:-//ChamberMaster//Event Calendar 2.0//EN
METHOD:PUBLISH
X-PUBLISHED-TTL:P3D
REFRESH-INTERVAL:P3D
CALSCALE:GREGORIAN
BEGIN:VEVENT
DTSTART:20180301T230000Z
DTEND:20180318T170000Z
X-MICROSOFT-CDO-ALLDAYEVENT:FALSE
SUMMARY:Boeing\, Boeing
DESCRIPTION:This 1960's French farce adapted for the English-speaking stage features self-styled Parisian lothario Bernard\, who has Italian\, German\, and American fianc es\, each a beautiful airline hostess with frequent "layovers". He keeps "one up\, one down\, and one pending" until unexpected schedule changes bring all three to Paris\, and Bernard's apartment\, at the same time.
X-ALT-DESC;FMTTYPE=text/html:This 1960&rsquo\;s French farce adapted for the English-speaking stage features self-styled Parisian lothario Bernard\, who has Italian\, German\, and American fianc&eacute\;es\, each a beautiful airline hostess with frequent &ldquo\;layovers&rdquo\;. He keeps &ldquo\;one up\, one down\, and one pending&rdquo\; until unexpected schedule changes bring all three to Paris\, and Bernard&rsquo\;s apartment\, at the same time.
LOCATION:Clove Creek Dinner Theater 18 Westage Business Center Drive Fishkill\, NY 12524 845-202-7778
UID:e.2770.10476815
SEQUENCE:3
DTSTAMP:20260425T221315Z
URL:https://business.dcrcoc.org/events/details/boeing-boeing-10476815
END:VEVENT

END:VCALENDAR
