BEGIN:VCALENDAR
VERSION:2.0
PRODID:-//ChamberMaster//Event Calendar 2.0//EN
METHOD:PUBLISH
X-PUBLISHED-TTL:P3D
REFRESH-INTERVAL:P3D
CALSCALE:GREGORIAN
BEGIN:VEVENT
DTSTART:20180805T210000Z
DTEND:20180806T000000Z
X-MICROSOFT-CDO-ALLDAYEVENT:FALSE
SUMMARY:BoomKat plays The Alley Kat!
DESCRIPTION:Two guitars\, killer harmonies\, not your ordinary song choices and all of hilarity that they can muster makes BoomKat a must see show! We've got great food\, 14 varieties of draft beer and mixed drink specials!\n\n\n\n\n\nCheck out the event details on our Facebook page:\n\nBoomKat plays The Alley Kat!
X-ALT-DESC;FMTTYPE=text/html:<div>\n<div>\n<div>\n<div><span style="color:rgb(29\, 33\, 41)\; font-size:14px">Two guitars\, killer harmonies\, not your ordinary song choices and all of hilarity that they can muster makes BoomKat a must see show! We&#39\;ve got great food\, 14 varieties of draft beer and mixed drink specials!</span></div>\n</div>\n</div>\n</div>\n<br />\nCheck out the event details on our Facebook page:<br />\n<a href="https://www.facebook.com/events/190496978486024/">BoomKat plays The Alley Kat!</a><br />\n&nbsp\;
LOCATION:The Alley Kat 1677 US 9 Wappingers Falls\, New York\, NY 12590
UID:e.2770.10479430
SEQUENCE:3
DTSTAMP:20260425T144330Z
URL:https://business.dcrcoc.org/events/details/boomkat-plays-the-alley-kat-10479430
END:VEVENT

END:VCALENDAR
