BEGIN:VCALENDAR
VERSION:2.0
PRODID:-//ChamberMaster//Event Calendar 2.0//EN
METHOD:PUBLISH
X-PUBLISHED-TTL:P3D
REFRESH-INTERVAL:P3D
CALSCALE:GREGORIAN
BEGIN:VEVENT
DTSTART:20180415T003000Z
DTEND:20180415T030000Z
X-MICROSOFT-CDO-ALLDAYEVENT:FALSE
SUMMARY:Bosco & the Storm comes to The Alley Kat!
DESCRIPTION:Get your dancing shoes ready cause we've got Bosco & the Storm! The Hudson Valley's premier five piece R&B\, top 40 Dance party band! Great food\, 14 varieties of draft beer\, top shelf liquor and fabulous live music!\n\n\n\nCheck out the event details on our Facebook page:\n\nBosco & the Storm comes to The Alley Kat!
X-ALT-DESC;FMTTYPE=text/html:<span style="color:rgb(75\, 79\, 86)\; font-family:system-ui\,-apple-system\,blinkmacsystemfont\,.sfnstext-regular\,sans-serif\; font-size:14px">Get your dancing shoes ready cause we&#39\;ve got Bosco &amp\; the Storm! The Hudson Valley&#39\;s premier five piece R&amp\;B\, top 40 Dance party band! Great food\, 14 varieties of draft beer\, top shelf liquor and fabulous live music!</span><br />\n<br />\nCheck out the event details on our Facebook page:<br />\n<a href="https://www.facebook.com/events/164019087648599/">Bosco &amp\; the Storm comes to The Alley Kat!</a><br />\n<br />\n&nbsp\;
LOCATION:The Alley Kat 1677 US 9 Wappingers Falls\, New York\, NY 12590
UID:e.2770.10477620
SEQUENCE:3
DTSTAMP:20260425T195233Z
URL:https://business.dcrcoc.org/events/details/bosco-the-storm-comes-to-the-alley-kat-10477620
END:VEVENT

END:VCALENDAR
