BEGIN:VCALENDAR
VERSION:2.0
PRODID:-//ChamberMaster//Event Calendar 2.0//EN
METHOD:PUBLISH
X-PUBLISHED-TTL:P3D
REFRESH-INTERVAL:P3D
CALSCALE:GREGORIAN
BEGIN:VEVENT
DTSTART:20180625T120000Z
DTEND:20180625T200000Z
X-MICROSOFT-CDO-ALLDAYEVENT:FALSE
SUMMARY:Breaking Limits Within Golf Tournament Benefiting Rocky Strong
DESCRIPTION:Join us on June 25th at McCann Memorial Golf Course for a fun day of golf which benefits Rocky Strong\, a local charity that provides financial assistance to families in Dutchess County and surrounding areas who unexpectedly become caregivers when a loved one falls seriously ill.  \n\n4 Man Scramble  \n\nEarly Bird Special Pricing (before June 1st) = $135.00 per player           $150.00 per player (after June 1st)\n\nPrice includes:\n\n	18 holes with cart\n	Breakfast\, lunch\, and dinner buffet\n	Beverages provided on the course\n	Prizes for closest to the pin\, longest drive\, and 1st & 2nd place\n\nSponsorship opportunites available!\n\n\n\nFor more information visit http://www.rockystrong.org or email Brad Warren at breakinglimitswithin@gmail.com\n\nTo purchase tickets online go to Brown Paper tickets  https://www.brownpapertickets.com/event/3380589  or \n\nsend a check payable to Brad Warren and mail to 16 E Hudson View Drive\, Beacon\, NY 12508  \n\n*If you have a team set up\, please include the names of the other members of your team.
X-ALT-DESC;FMTTYPE=text/html:Join us on June 25th at McCann Memorial Golf Course for a fun day of golf which benefits Rocky Strong\, a local charity that provides financial assistance to families in Dutchess County and surrounding areas who unexpectedly become caregivers when a loved one falls seriously ill.&nbsp\;&nbsp\;<br />\n<strong>4 Man Scramble&nbsp\;&nbsp\;</strong><br />\nEarly Bird Special Pricing (<strong>before June 1st</strong>) = <strong>$135.00 </strong>per player&nbsp\; &nbsp\; &nbsp\; &nbsp\; &nbsp\; &nbsp\;$150.00 per player (after June 1st)<br />\n<strong>Price includes:</strong>\n<ul>\n	<li>18 holes with cart</li>\n	<li>Breakfast\, lunch\, and dinner buffet</li>\n	<li>Beverages provided on the course</li>\n	<li>Prizes for closest to the pin\, longest drive\, and 1st &amp\; 2nd place</li>\n</ul>\nSponsorship opportunites available!<br />\n<br />\nFor more information visit&nbsp\;<a href="http://www.rockystrong.org">http://www.rockystrong.org</a> or email Brad Warren at breakinglimitswithin@gmail.com<br />\nTo purchase tickets online go to Brown Paper tickets&nbsp\;&nbsp\;<a href="https://www.brownpapertickets.com/event/3380589">https://www.brownpapertickets.com/event/3380589</a>&nbsp\; or&nbsp\;<br />\nsend a check payable to Brad Warren and mail to 16 E Hudson View Drive\, Beacon\, NY 12508&nbsp\;&nbsp\;<br />\n*If you have a team set up\, please include the names of the other members of your team.
LOCATION:McCann Memorial Golf Course 155 Wilbur Blvd. Poughkeepsie\, NY 12603
UID:e.2770.10477640
SEQUENCE:3
DTSTAMP:20260425T170815Z
URL:https://business.dcrcoc.org/events/details/breaking-limits-within-golf-tournament-benefiting-rocky-strong-10477640
END:VEVENT

END:VCALENDAR
