BEGIN:VCALENDAR
VERSION:2.0
PRODID:-//ChamberMaster//Event Calendar 2.0//EN
METHOD:PUBLISH
X-PUBLISHED-TTL:P3D
REFRESH-INTERVAL:P3D
CALSCALE:GREGORIAN
BEGIN:VEVENT
DTSTART:20191019T180000Z
DTEND:20191019T210000Z
X-MICROSOFT-CDO-ALLDAYEVENT:FALSE
SUMMARY:Brew U at the CIA
DESCRIPTION:Brew U at the CIA\, The Culinary Institute of America's annual beer\, food\, and education festival\, is back for its fourth year! Join us for day filled with tastings\, educational seminars\, and food prepared by CIA chefs. Meet Hutch Kugeman\, head brewer at the award-winning Brewery at the CIA\, and other brewers and beer experts. Admission includes all beer and food during the event\, brewery tour\, educational seminars\, and a commemorative tasting glass. All guests must be at least 21 years of age. Purchase tickets before August 23 to take advantage of early-bird pricing. All tickets are non-refundable. All guests must be at least 21 years of age.
X-ALT-DESC;FMTTYPE=text/html:Brew U at the CIA\, The Culinary Institute of America&rsquo\;s annual beer\, food\, and education festival\, is back for its fourth year! Join us for day filled with tastings\, educational seminars\, and food prepared by CIA chefs. Meet Hutch Kugeman\, head brewer at the award-winning Brewery at the CIA\, and other brewers and beer experts. Admission includes all beer and food during the event\, brewery tour\, educational seminars\, and a commemorative tasting glass. All guests must be at least 21 years of age. Purchase tickets before August 23 to take advantage of early-bird pricing. All tickets are non-refundable. All guests must be at least 21 years of age.
LOCATION:The Egg at The Culinary Institute of America
UID:e.2770.10481029
SEQUENCE:3
DTSTAMP:20260422T182935Z
URL:https://business.dcrcoc.org/events/details/brew-u-at-the-cia-10481029
END:VEVENT

END:VCALENDAR
