BEGIN:VCALENDAR
VERSION:2.0
PRODID:-//ChamberMaster//Event Calendar 2.0//EN
METHOD:PUBLISH
X-PUBLISHED-TTL:P3D
REFRESH-INTERVAL:P3D
CALSCALE:GREGORIAN
BEGIN:VEVENT
DTSTART:20171024T213000Z
DTEND:20171024T233000Z
X-MICROSOFT-CDO-ALLDAYEVENT:FALSE
SUMMARY:Bridges to Board Service - Financial Oversight
DESCRIPTION:The Chamber's Nonprofit Committee\, in partnership with the Community Foundations of the Hudson Valley\, Governance Matters an affiliate of the New York Council of Nonprofits (NYCON)\, and the Dyson Foundation will present Bridges to Board Service: Making our community stronger through exceptional nonprofit board service. Sessions will provide board members with a critical orientation on the responsibilities\, knowledge\, and skills needed to be an effective board member.\n\nOne important but sometimes misunderstood area of board responsibility is to ensure that the organization has the financial\, human\, and other resources it needs to carry out its mission and achieve its goals.  The specific nature of how this is done varies according to the organization's business model\, culture\, structure\, and organizational capacity.  This session will provide an overview of how board members can foster a pro-active approach to financial resource development that includes policy making\, planning\, fundraising\, and strategy development.  We will also define and explore the various active roles board members can play as donors\, ambassadors\, advocates\, and askers. \n\nBoard 101 is no longer a prerequisite but strongly recommended for potential/new board members or for boards that need to improve themselves.\n\nIf you have questions on this course\, the Bridges to Board Service program and/or the BoardnetUSA matching service please email bridgestoboardservice@gmail.com.\n\nChamber Member - $30\n\nNon-Member - $40\n\nSession capacity is 20 participants. A minimum of 10 participants is required to hold each session. If a session does not reach the minimum participation\, registrants will be invited to attend a different upcoming session.\n\n\n\nVISIT www.bridgestoboardservice.com TO REGISTER
X-ALT-DESC;FMTTYPE=text/html:<p>The Chamber&rsquo\;s Nonprofit Committee\, in partnership with the Community Foundations of the Hudson Valley\, Governance Matters&mdash\;an affiliate of the New York Council of Nonprofits (NYCON)\, and the Dyson Foundation will present Bridges to Board Service: Making our community stronger through exceptional nonprofit board service. Sessions will provide board members with a critical orientation on the responsibilities\, knowledge\, and skills needed to be an effective board member.</p>\n\n<p>One important but sometimes misunderstood area of board responsibility is to ensure that the organization has the financial\, human\, and other resources it needs to carry out its mission and achieve its goals.&nbsp\; The specific nature of how this is done varies according to the organization&rsquo\;s business model\, culture\, structure\, and organizational capacity.&nbsp\; This session will provide an overview of how board members can foster a pro-active approach to financial resource development that includes policy making\, planning\, fundraising\, and strategy development.&nbsp\; We will also define and explore the various active roles board members can play as donors\, ambassadors\, advocates\, and askers.&nbsp\;</p>\n\n<p><strong><span style="color:#333333\;"><span style="font-family:arial\,sans-serif\;">Board 101 is no longer a prerequisite </span></span></strong><span style="color:#333333\;"><span style="font-family:arial\,sans-serif\;">but strongly recommended for potential/new board members or for boards that need to improve themselves.</span></span></p>\n\n<p>If you have questions on this course\, the Bridges to Board Service program and/or the BoardnetUSA matching service please email&nbsp\;<a href="mailto:bridgestoboardservice@gmail.com">bridgestoboardservice@gmail.com</a>.</p>\n\n<p>Chamber Member - $30</p>\n\n<p style="padding-right:0px\;padding-left:0px\;font-size:1.2em\;margin-bottom:14px\;"><span style="color:#000000\;font-family:Arial\, Helvetica\, sans-serif\;font-size:medium\;">Non-Member - $40</span></p>\n\n<p style="padding-right:0px\;padding-left:0px\;font-size:1.2em\;margin-bottom:14px\;"><span style="color:#000000\;font-family:Arial\, Helvetica\, sans-serif\;font-size:medium\;">Session capacity is 20 participants. A minimum of 10 participants is required to hold each session. If a session does not reach the minimum participation\, registrants will be invited to attend a different upcoming session.</span><br />\n<br />\n<span style="color: rgb(51\, 51\, 51)\; font-family: sans-serif\, Arial\, Verdana\, &quot\;Trebuchet MS&quot\;\; font-size: 15.6px\; background-color: rgb(255\, 255\, 255)\;">VISIT&nbsp\;</span><span style="color: rgb(51\, 51\, 51)\; font-size: 15.6px\; background-color: rgb(255\, 255\, 255)\; font-family: &quot\;times new roman&quot\;\, serif\;"><span style="font-size: 12pt\;"><a href="http://www.bridgestoboardservice.com" style="color: rgb(7\, 130\, 193)\;"><span style="color: rgb(0\, 0\, 255)\;">www.bridgestoboardservice.com</span></a>&nbsp\;TO REGISTER</span></span></p>\n
LOCATION:Poughkeepsie Public Library Boardman Road Branch 141 Boardman Road\, Poughkeepsie
UID:e.2770.10474450
SEQUENCE:3
DTSTAMP:20260426T033437Z
URL:https://business.dcrcoc.org/events/details/bridges-to-board-service-financial-oversight-10474450
END:VEVENT

END:VCALENDAR
