BEGIN:VCALENDAR
VERSION:2.0
PRODID:-//ChamberMaster//Event Calendar 2.0//EN
METHOD:PUBLISH
X-PUBLISHED-TTL:P3D
REFRESH-INTERVAL:P3D
CALSCALE:GREGORIAN
BEGIN:VEVENT
DTSTART:20190723T213000Z
DTEND:20190723T233000Z
X-MICROSOFT-CDO-ALLDAYEVENT:FALSE
SUMMARY:Bridges To Board Service: Succession Planning for Executive Leadership
DESCRIPTION:Executive Director transitions happen\, whether or not we are ready. Without preparation\, the impact of unplanned or planned transitions can throw an organization off course and undermine board\, staff\, funder\, and constituent confidence in the organization. By planning ahead\, organizations can lay the groundwork for transitions by identifying the actions that can be taken to strengthen and prepare the organization before the leader's departure\; defining the roles and activities that will move the organization through the transition\; and build a solid and welcoming foundation for new leadership. This session will help board leadership better understand the succession planning process and the issues that might be considered in a succession plan including staff and board development\, budgeting\, Interim leadership\, and managing a hiring process.
X-ALT-DESC;FMTTYPE=text/html:Executive Director transitions happen\, whether or not we are ready. Without preparation\, the impact of unplanned or planned transitions can throw an organization off course and undermine board\, staff\, funder\, and constituent confidence in the organization. By planning ahead\, organizations can lay the groundwork for transitions by identifying the actions that can be taken to strengthen and prepare the organization before the leader&rsquo\;s departure\; defining the roles and activities that will move the organization through the transition\; and build a solid and welcoming foundation for new leadership. This session will help board leadership better understand the succession planning process and the issues that might be considered in a succession plan including staff and board development\, budgeting\, Interim leadership\, and managing a hiring process.
LOCATION:Poughkeepsie Library- Boardman Branch 141 Boardman Road Poughkeepsie\, NY 12603
UID:e.2770.10480820
SEQUENCE:3
DTSTAMP:20260423T011836Z
URL:https://business.dcrcoc.org/events/details/bridges-to-board-service-succession-planning-for-executive-leadership-10480820
END:VEVENT

END:VCALENDAR
