BEGIN:VCALENDAR
VERSION:2.0
PRODID:-//ChamberMaster//Event Calendar 2.0//EN
METHOD:PUBLISH
X-PUBLISHED-TTL:P3D
REFRESH-INTERVAL:P3D
CALSCALE:GREGORIAN
BEGIN:VEVENT
DTSTART:20191112T140000Z
DTEND:20191112T160000Z
X-MICROSOFT-CDO-ALLDAYEVENT:FALSE
SUMMARY:Bring Your Products to the World
DESCRIPTION:Learn the steps to exporting and what it requires.\n\n\n	\n	Am I ready to export or expand into new markets?\n	\n	\n	How to successfully export\n	\n	\n	Already exporting?  Become a more proactive exporter\n	\n	\n	Refine your process to market and sell your products outside of the U.S\n	\n\n\nJoin our experts:  Michael Grossman\, US Commercial Service\; Kathryn Bamberger\, Global NY\; and Tracy Zayak\, Mainfreight\n\n\n\nMust be in business for at least 2 years\, have a product you are selling\, and have sales growth.
X-ALT-DESC;FMTTYPE=text/html:<p><span style="font-size:16px"><strong>Learn the steps to <span style="color:#d00c3b">exporting</span> and what it <span style="color:#d00c3b">requires</span>.</strong></span></p>\n\n<ul>\n	<li>\n	<p><span style="font-size:16px">Am I ready to export or expand into new markets?</span></p>\n	</li>\n	<li>\n	<p><span style="font-size:16px">How to successfully export</span></p>\n	</li>\n	<li>\n	<p><span style="font-size:16px">Already exporting?&nbsp\; Become a more proactive exporter</span></p>\n	</li>\n	<li>\n	<p><span style="font-size:16px">Refine your process to market and sell your products outside of the U.S</span></p>\n	</li>\n</ul>\n\n<p><span style="font-size:16px"><span style="color:#d00c3b"><strong>Join our experts:</strong></span>&nbsp\; <strong>Michael Grossman</strong>\, <em>US Commercial Service</em>\; <strong>Kathryn Bamberger</strong>\, <em>Global NY</em>\; and <strong>Tracy Zayak</strong>\, <em>Mainfreight</em><br />\n<br />\n<em>Must be in business for at least 2 years\, have a product you are selling\, and have sales growth.</em></span></p>\n
LOCATION:The Accelerator 4 Crotty Lane\, Suite 100 New Windsor\, NY 12553
UID:e.2770.10481394
SEQUENCE:3
DTSTAMP:20260422T170921Z
URL:https://business.dcrcoc.org/events/details/bring-your-products-to-the-world-10481394
END:VEVENT

END:VCALENDAR
