BEGIN:VCALENDAR
VERSION:2.0
PRODID:-//ChamberMaster//Event Calendar 2.0//EN
METHOD:PUBLISH
X-PUBLISHED-TTL:P3D
REFRESH-INTERVAL:P3D
CALSCALE:GREGORIAN
BEGIN:VEVENT
DTSTART:20190426T210000Z
DTEND:20190428T013000Z
X-MICROSOFT-CDO-ALLDAYEVENT:FALSE
SUMMARY:Broken Dolls Residency: A Play and Panel on Human Trafficking
DESCRIPTION:Broken Dolls Residency: April 26th & 27th Vassar College Aula Building Panel Discussion Friday\, April 26th\, 5pm Staged Reading Friday\, April 26th & Saturday\, April 27th Doors open 7pm\, Staged Reading at 7:30pm Devised Theater Workshop April 27th\, 3-5pm Google Form to Reserve Spots: https://forms.gle/N8BoAL7X81MpgVXs6 All events are free and open to the public. Vassar Underground & Mirage Theatre Company invite you to join us for the Broken Dolls Residency April 26th- 27th in the Aula Building at Vassar College. Broken Dolls is a drama by Melisa Tien and directed by June Prager about the issue of human trafficking. The intention of this work is to raise awareness for those who suffer systemic abuse from human trafficking. Expression of the survivors' inner and outward struggle will be portrayed not only through words\, but through music and movement. The Residency will include a panel discussion comprised of local and international trafficking experts and a human trafficking survivor to discuss the methods and effectiveness of raising awareness for trafficking\, such as using art as a medium of education and solidarity. Moderated by Elise Gold\, Maya Gold Foundation\, panelists include: Colette Varanouskas\, Anchor of Hope\; Kellyann Kostyal-Larrier\, Safe Homes of Orange & Sullivan Counties\; and Laxmi Gurung\, SASANE. This event will take place on April 26th\, 5pm in the Vassar College Aula Building. Following the panel discussion will be the first staged reading of the play at 7:30 pm\, April 26th\, in the Vassar College Aula. On April 27th\, a drama workshop on devised theater will be offered from 3-5pm in the Aula. This workshop will be customized to the attendees\, be capped at 30 students\, and is open to all students across NY. Sign up for the workshops here: https://forms.gle/N8BoAL7X81MpgVXs6 Following the workshop\, we will present our last staged reading of Broken Dolls at 7:30pm on April 27th. Please contact lirwin@vassar.edu for more information.
X-ALT-DESC;FMTTYPE=text/html:Broken Dolls Residency: April 26th &amp\; 27th Vassar College Aula Building Panel Discussion Friday\, April 26th\, 5pm Staged Reading Friday\, April 26th &amp\; Saturday\, April 27th Doors open 7pm\, Staged Reading at 7:30pm Devised Theater Workshop April 27th\, 3-5pm Google Form to Reserve Spots: https://forms.gle/N8BoAL7X81MpgVXs6 All events are free and open to the public. Vassar Underground &amp\; Mirage Theatre Company invite you to join us for the Broken Dolls Residency April 26th- 27th in the Aula Building at Vassar College. Broken Dolls is a drama by Melisa Tien and directed by June Prager about the issue of human trafficking. The intention of this work is to raise awareness for those who suffer systemic abuse from human trafficking. Expression of the survivors&rsquo\; inner and outward struggle will be portrayed not only through words\, but through music and movement. The Residency will include a panel discussion comprised of local and international trafficking experts and a human trafficking survivor to discuss the methods and effectiveness of raising awareness for trafficking\, such as using art as a medium of education and solidarity. Moderated by Elise Gold\, Maya Gold Foundation\, panelists include: Colette Varanouskas\, Anchor of Hope\; Kellyann Kostyal-Larrier\, Safe Homes of Orange &amp\; Sullivan Counties\; and Laxmi Gurung\, SASANE. This event will take place on April 26th\, 5pm in the Vassar College Aula Building. Following the panel discussion will be the first staged reading of the play at 7:30 pm\, April 26th\, in the Vassar College Aula. On April 27th\, a drama workshop on devised theater will be offered from 3-5pm in the Aula. This workshop will be customized to the attendees\, be capped at 30 students\, and is open to all students across NY. Sign up for the workshops here: https://forms.gle/N8BoAL7X81MpgVXs6 Following the workshop\, we will present our last staged reading of Broken Dolls at 7:30pm on April 27th. Please contact lirwin@vassar.edu for more information.
LOCATION:Vassar College: Aula/Ely Hall
UID:e.2770.10480709
SEQUENCE:3
DTSTAMP:20260423T081618Z
URL:https://business.dcrcoc.org/events/details/broken-dolls-residency-a-play-and-panel-on-human-trafficking-10480709
END:VEVENT

END:VCALENDAR
