BEGIN:VCALENDAR
VERSION:2.0
PRODID:-//ChamberMaster//Event Calendar 2.0//EN
METHOD:PUBLISH
X-PUBLISHED-TTL:P3D
REFRESH-INTERVAL:P3D
CALSCALE:GREGORIAN
BEGIN:VEVENT
DTSTART:20210428T180000Z
DTEND:20210428T220000Z
X-MICROSOFT-CDO-ALLDAYEVENT:FALSE
SUMMARY:Brookmeade Community JOB FAIR!
DESCRIPTION:We are happy to announce that on April 28\, 2021 from 2-6 PM Brookmeade will be hosting a job fair at The Pavilion\, Brookmeade's new premier Adult Day and Community Building. Our address is 34 Brookmeade Drive. Rhinebeck\, NY 12572 Open positions include CNA's\, RN's\, LPN\,s\, PCA's\, Dietary Aides/Cooks\, Environmental Services\, Front Office Assistant\, Nursing Staff Scheduler\, and more. We are offering ON THE SPOT INTERVIEWS! We offer a full benefit package to full-time employees\, which includes health\, dental\, vision\, life insurance plans\; a generous paid time off plan and employer contribution to the retirement savings plan. If you have any questions\, please call me at 845-871-1337 or email at nfanek@brookmeadecommunity.org Brookmeade Community is a Premier Senior Living Community located in Rhinebeck\, NY that provides exceptional care to our Residents. We are the only long term care facility in all surrounding counties that has been designated by the Department of Health as the top 5% performing nursing homes in NY State.
X-ALT-DESC;FMTTYPE=text/html:We are happy to announce that on April 28\, 2021 from 2-6 PM Brookmeade will be hosting a job fair at The Pavilion\, Brookmeade&rsquo\;s new premier Adult Day and Community Building. Our address is 34 Brookmeade Drive. Rhinebeck\, NY 12572 Open positions include CNA&rsquo\;s\, RN&rsquo\;s\, LPN\,s\, PCA&rsquo\;s\, Dietary Aides/Cooks\, Environmental Services\, Front Office Assistant\, Nursing Staff Scheduler\, and more. We are offering ON THE SPOT INTERVIEWS! We offer a full benefit package to full-time employees\, which includes health\, dental\, vision\, life insurance plans\; a generous paid time off plan and employer contribution to the retirement savings plan. If you have any questions\, please call me at 845-871-1337 or email at nfanek@brookmeadecommunity.org Brookmeade Community is a Premier Senior Living Community located in Rhinebeck\, NY that provides exceptional care to our Residents. We are the only long term care facility in all surrounding counties that has been designated by the Department of Health as the top 5% performing nursing homes in NY State.
LOCATION:34 Brookmeade Drive Rhinebeck\, NY 12572
UID:e.2770.10485101
SEQUENCE:3
DTSTAMP:20260421T130051Z
URL:https://business.dcrcoc.org/events/details/brookmeade-community-job-fair-10485101
END:VEVENT

END:VCALENDAR
