BEGIN:VCALENDAR
VERSION:2.0
PRODID:-//ChamberMaster//Event Calendar 2.0//EN
METHOD:PUBLISH
X-PUBLISHED-TTL:P3D
REFRESH-INTERVAL:P3D
CALSCALE:GREGORIAN
BEGIN:VEVENT
DTSTART:20180514T170000Z
DTEND:20180514T193000Z
X-MICROSOFT-CDO-ALLDAYEVENT:FALSE
SUMMARY:Build Wealth For Yourself & For Your Neighborhood!
DESCRIPTION:Have you ever thought about: - Buying the building where you have your business? - Owning residential or commercial property? - Learning more about how the real estate process unfolds? - Learning more about community wealth building? This event will be an opportunity to learn from local experts about processes that can help build wealth in your community\, as well as an opportunity to network and promote your business or organization. We will be welcoming these panelists to speak to the different parts of the development process: Mary Linge\, Hudson River Housing Director of Real Estate and Development Catherine LoCicero-Terrizzi\, Small Business Development Center Advanced Certified Business Advisor Tom Cervone\, CR Properties Group Principal Broker and Owner Eric Baxter\, R.L. Baxter Building Corporation Vice President Natalie Quinn\, City of Poughkeepsie Senior Planner Please let us know you're coming by reserving a seat at the following link: https://www.eventbrite.com/e/made-in-middle-main-want-to-become-a-developer-in-your-own-community-tickets-45208559017
X-ALT-DESC;FMTTYPE=text/html:Have you ever thought about: - Buying the building where you have your business? - Owning residential or commercial property? - Learning more about how the real estate process unfolds? - Learning more about community wealth building? This event will be an opportunity to learn from local experts about processes that can help build wealth in your community\, as well as an opportunity to network and promote your business or organization. We will be welcoming these panelists to speak to the different parts of the development process: Mary Linge\, Hudson River Housing Director of Real Estate and Development Catherine LoCicero-Terrizzi\, Small Business Development Center Advanced Certified Business Advisor Tom Cervone\, CR Properties Group Principal Broker and Owner Eric Baxter\, R.L. Baxter Building Corporation Vice President Natalie Quinn\, City of Poughkeepsie Senior Planner Please let us know you&#39\;re coming by reserving a seat at the following link: https://www.eventbrite.com/e/made-in-middle-main-want-to-become-a-developer-in-your-own-community-tickets-45208559017
LOCATION:ABClatino 356 Main Street Poughkeepsie\, NY
UID:e.2770.10477784
SEQUENCE:3
DTSTAMP:20260425T182014Z
URL:https://business.dcrcoc.org/events/details/build-wealth-for-yourself-for-your-neighborhood-10477784
END:VEVENT

END:VCALENDAR
