BEGIN:VCALENDAR
VERSION:2.0
PRODID:-//ChamberMaster//Event Calendar 2.0//EN
METHOD:PUBLISH
X-PUBLISHED-TTL:P3D
REFRESH-INTERVAL:P3D
CALSCALE:GREGORIAN
BEGIN:VEVENT
DTSTART:20191209T230000Z
DTEND:20191210T020000Z
X-MICROSOFT-CDO-ALLDAYEVENT:FALSE
SUMMARY:Build Your Championship Quality Team
DESCRIPTION:Learn how to recruit\, retain\, and replace championship quality team members in any business!\n\n\n\nIn this workshop\, participants will explore and learn state-of-the-art strategies for gaining clarity on the right team for their company.\n\n\n\nAttendees will learn: \n\n\n	\n	S.K.A.T.E. Ideal Team Member Hiring Framework\n	\n	\n	S.O.A.R. Team Member Growth and Development Assessment\n	\n	\n	Championship Performance Management Playbook\n	\n	\n	5 Playbooks that create championship performance in any organization\n	\n	\n	Communication Model that makes leading your team easy and effective
X-ALT-DESC;FMTTYPE=text/html:<p><span style="font-size:16px"><strong>Learn how to recruit\, retain\, and replace championship quality team members in any business!</strong><br />\n<br />\nIn this workshop\, participants will explore and learn state-of-the-art strategies for gaining clarity on the right team for their company.<br />\n<br />\n<strong>Attendees will learn:&nbsp\;</strong></span></p>\n\n<ul>\n	<li>\n	<p><span style="font-size:16px">S.K.A.T.E. Ideal Team Member Hiring Framework</span></p>\n	</li>\n	<li>\n	<p><span style="font-size:16px">S.O.A.R. Team Member Growth and Development Assessment</span></p>\n	</li>\n	<li>\n	<p><span style="font-size:16px">Championship Performance Management Playbook</span></p>\n	</li>\n	<li>\n	<p><span style="font-size:16px">5 Playbooks that create championship performance in any organization</span></p>\n	</li>\n	<li>\n	<p><span style="font-size:16px">Communication Model that makes leading your team easy and effective</span></p>\n	</li>\n</ul>\n
LOCATION:Think Dutchess 3 Neptune Rd. Suite A21 Poughkeepsie\, NY 12601
UID:e.2770.10480926
SEQUENCE:3
DTSTAMP:20260422T151049Z
URL:https://business.dcrcoc.org/events/details/build-your-championship-quality-team-10480926
END:VEVENT

END:VCALENDAR
