BEGIN:VCALENDAR
VERSION:2.0
PRODID:-//ChamberMaster//Event Calendar 2.0//EN
METHOD:PUBLISH
X-PUBLISHED-TTL:P3D
REFRESH-INTERVAL:P3D
CALSCALE:GREGORIAN
BEGIN:VEVENT
DTSTART:20171210T000000Z
DTEND:20171210T030000Z
X-MICROSOFT-CDO-ALLDAYEVENT:FALSE
SUMMARY:Christmas in the Round!
DESCRIPTION:Changepoint is bringing a little Nashville Tradition to Poughkeepsie!  \n\nCHRISTMAS IN THE ROUND!\n\nBUILDING 429 in Concert with Special Guests\, Matt Hammitt and Cloverton!\n\nThrough their songs and their high energy live shows\, GRAMMY-nominated Building 429 is a band that has been touted throughout their more than 15-year career as "authentic and amazing   uplifting and unforgettable\," along with being "truly focused on bringing glory to God." Building 429 is sure to continue keeping fans on their feet and singing their hearts out with their collection of songs. Their album\, aptly titled Unashamed\, is full of artful anthem-like choruses complimented by engaging power-pop melodies\, paired with raw honest lyrics\, digging into the album's theme deeper than ever before.
X-ALT-DESC;FMTTYPE=text/html:<div style="text-align:center"><span style="font-size:18px"><strong><span style="color:black"><span style="font-family:arial\,sans-serif">Changepoint is bringing a little Nashville </span></span></strong></span><strong><span style="color:black"><span style="font-family:arial\,sans-serif"><span style="font-size:24.0pt"><span style="font-size:18px">Tradition to&nbsp\;</span></span></span></span></strong><strong><span style="color:black"><span style="font-family:arial\,sans-serif"><span style="font-size:24.0pt"><span style="font-size:18px">Poughkeepsie!&nbsp\;</span>&nbsp\;</span></span></span></strong></div>\n\n<div style="text-align:center"><strong><span style="font-size:20px"><em>CHRISTMAS IN THE ROUND!</em></span><br />\nBUILDING 429 in Concert with Special Guests\, Matt Hammitt and Cloverton!<br />\nThrough their songs and their high energy live shows\, GRAMMY-nominated&nbsp\;Building 429&nbsp\;is a band that has been touted throughout their more than 15-year career as &ldquo\;authentic and amazing &ndash\; uplifting and unforgettable\,&rdquo\; along with being &ldquo\;truly focused on bringing glory to God.&rdquo\;&nbsp\;Building 429&nbsp\;is sure to continue keeping fans on their feet and singing their hearts out with their collection of songs. Their album\, aptly titled&nbsp\;<em>Unashamed</em>\, is full of artful anthem-like choruses complimented by engaging power-pop melodies\, paired with raw honest lyrics\, digging into the album&rsquo\;s theme deeper than ever before.</strong></div>\n
LOCATION:Changepoint 260 Mill Street Poughkeepsie\, NY Across from the Mid Hudson Civic Center
UID:e.2770.10476331
SEQUENCE:3
DTSTAMP:20260426T020455Z
URL:https://business.dcrcoc.org/events/details/building-429-in-concert-10476331
END:VEVENT

END:VCALENDAR
