BEGIN:VCALENDAR
VERSION:2.0
PRODID:-//ChamberMaster//Event Calendar 2.0//EN
METHOD:PUBLISH
X-PUBLISHED-TTL:P3D
REFRESH-INTERVAL:P3D
CALSCALE:GREGORIAN
BEGIN:VEVENT
DTSTART:20171115T140000Z
DTEND:20171115T160000Z
X-MICROSOFT-CDO-ALLDAYEVENT:FALSE
SUMMARY:Building Your Nonprofit Board Workshop: How You Can Help Your Board to Work More Effectively
DESCRIPTION:Nonprofit boards are not and should not be static. To be effective\, they must change and evolve as their organizations change and grow. The board maturing process is not inevitable and organizations may develop differently or boards may stop at one stage or another and each board/situation is unique.\n\n\n\nThis workshop will talk about the Board evolution process and ideas for helping you move your board forward to be as effective as your organization needs it to be. We will feature a panel of nonprofits staff/board members that have changed how their boards operate through thoughtful board evolution.\n\n\n\nFinally we will introduce a board matching service now managed by Governance Matters\, a subsidiary of the New York Council of Nonprofits (NYCON) called boardnetusa.org that can be used to promote your board member needs and potentially match nonprofits with potential board members.
X-ALT-DESC;FMTTYPE=text/html:<span style="font-size:16px\;">Nonprofit boards are not and should not be static. To be effective\, they must change and evolve as their organizations change and grow. The board maturing process is not inevitable and organizations may develop differently or boards may stop at one stage or another and each board/situation is unique.<br />\n<br />\nThis workshop will talk about the Board evolution process and ideas for helping you move your board forward to be as effective as your organization needs it to be. We will feature a panel of nonprofits staff/board members that have changed how their boards operate through thoughtful board evolution.<br />\n<br />\nFinally we will introduce a board matching service now managed by Governance Matters\, a subsidiary of the New York Council of Nonprofits (NYCON) called <a href="http://boardnetusa.org"><span style="color:#0000FF\;">boardnetusa.org</span></a> that can be used to promote your board member needs and potentially match nonprofits with potential board members.</span>
LOCATION:The Poughkeepsie Grand Hotel & Conference Center 40 Civic Center Plaza\, Poughkeepsie\, NY 12601
UID:e.2770.10476379
SEQUENCE:3
DTSTAMP:20260426T020801Z
URL:https://business.dcrcoc.org/events/details/building-your-nonprofit-board-workshop-how-you-can-help-your-board-to-work-more-effectively-10476379
END:VEVENT

END:VCALENDAR
