BEGIN:VCALENDAR
VERSION:2.0
PRODID:-//ChamberMaster//Event Calendar 2.0//EN
METHOD:PUBLISH
X-PUBLISHED-TTL:P3D
REFRESH-INTERVAL:P3D
CALSCALE:GREGORIAN
BEGIN:VEVENT
DTSTART:20180809T220000Z
DTEND:20180810T020000Z
X-MICROSOFT-CDO-ALLDAYEVENT:FALSE
SUMMARY:Burger & Beer Bash
DESCRIPTION:Hudson Valley Magazine's annual Burger & Beer Bash has become the area's hottest summer party! This signature event brings together all the greatest elements of summer: juicy burgers\, cold beer\, desserts and live music\, plus the chance to be named Best Burger! **No one under 21 will be admitted**
X-ALT-DESC;FMTTYPE=text/html:Hudson Valley Magazine&rsquo\;s annual Burger &amp\; Beer Bash has become the area&rsquo\;s hottest summer party! This signature event brings together all the greatest elements of summer: juicy burgers\, cold beer\, desserts and live music\, plus the chance to be named Best Burger! **No one under 21 will be admitted**
LOCATION:Dutchess Stadium - 1500 NY 9D Wappingers Falls\, NY 12590
UID:e.2770.10476852
SEQUENCE:3
DTSTAMP:20260425T143320Z
URL:https://business.dcrcoc.org/events/details/burger-beer-bash-08-09-2018-10476852
END:VEVENT

END:VCALENDAR
