BEGIN:VCALENDAR
VERSION:2.0
PRODID:-//ChamberMaster//Event Calendar 2.0//EN
METHOD:PUBLISH
X-PUBLISHED-TTL:P3D
REFRESH-INTERVAL:P3D
CALSCALE:GREGORIAN
BEGIN:VEVENT
DTSTART:20171011T210000Z
DTEND:20171011T230000Z
X-MICROSOFT-CDO-ALLDAYEVENT:FALSE
SUMMARY:Business After Hours
DESCRIPTION:Monthly networking event.\n\n\n\nSponsored by Marshall & Sterling Insurance and Rhinebeck Bank.
X-ALT-DESC;FMTTYPE=text/html:<p>Monthly networking event.<br />\n<br />\nSponsored by <a href="https://www.marshallsterling.com/" target="_blank">Marshall &amp\; Sterling Insurance</a> and <a href="https://www.rhinebeckbank.com/" target="_blank">Rhinebeck Bank</a>.</p>\n
LOCATION:Buttermilk Falls Inn & Spa 220 North Road Milton on Hudson\, NY 12547
UID:e.2770.10474043
SEQUENCE:3
DTSTAMP:20260426T033313Z
URL:https://business.dcrcoc.org/events/details/business-after-hours-10-11-2017-10474043
END:VEVENT

END:VCALENDAR
