BEGIN:VCALENDAR
VERSION:2.0
PRODID:-//ChamberMaster//Event Calendar 2.0//EN
METHOD:PUBLISH
X-PUBLISHED-TTL:P3D
REFRESH-INTERVAL:P3D
CALSCALE:GREGORIAN
BEGIN:VEVENT
DTSTART:20171025T200000Z
DTEND:20171025T220000Z
X-MICROSOFT-CDO-ALLDAYEVENT:FALSE
SUMMARY:Business After Hours
DESCRIPTION:The Chamber will host a BONUS networking event at the Think Local First Business Expo featuring complimentary hors d'oeuvres\, DJ music\, and a cash bar. Come network with Expo vendors and fellow business professionals in the Hospitality Garden. Sponsored by Rhinebeck Bank.
X-ALT-DESC;FMTTYPE=text/html:<p>The Chamber will host a BONUS&nbsp\;networking event at the Think Local First Business Expo featuring complimentary hors d&#39\;oeuvres\, DJ music\, and a cash bar. Come network with Expo vendors and fellow business professionals&nbsp\;in the Hospitality Garden.&nbsp\;<strong>Sponsored by <a href="https://www.rhinebeckbank.com/Default.aspx" target="_blank">Rhinebeck Bank</a></strong>.</p>\n
LOCATION:Mid-Hudson Civic Center 14 Civic Center Plaza Poughkeepsie\, NY 12601
UID:e.2770.10476297
SEQUENCE:3
DTSTAMP:20260426T033227Z
URL:https://business.dcrcoc.org/events/details/business-after-hours-10476297
END:VEVENT

END:VCALENDAR
