BEGIN:VCALENDAR
VERSION:2.0
PRODID:-//ChamberMaster//Event Calendar 2.0//EN
METHOD:PUBLISH
X-PUBLISHED-TTL:P3D
REFRESH-INTERVAL:P3D
CALSCALE:GREGORIAN
BEGIN:VEVENT
DTSTART:20180124T220000Z
DTEND:20180125T000000Z
X-MICROSOFT-CDO-ALLDAYEVENT:FALSE
SUMMARY:Business After Hours
DESCRIPTION:*** If you register for this event after 3:30 p.m. on Wednesday January 23rd you will NOT be on our registration list. Please go to the check in table and fill your information out on the walk-in list.\n\n\n\n\n\nMonthly networking event.\n\n\n\nSponsored by: Quint Investments & Insurance\, and Mehl & Associates\, CPA's
X-ALT-DESC;FMTTYPE=text/html:<p><span style="font-size: 14px\;"><span style="font-family: arial\;"><span style="font-size: 16px\;"><strong>*** If you register for this event after 3:30 p.m. on Wednesday January 23rd you will NOT be on our registration list. Please go to the check in table and fill your information out on the walk-in list.</strong></span><br />\n<br />\n<br />\nMonthly networking event.<br />\n<br />\nSponsored by:&nbsp\;<a href="http://www.quintii.com/" target="_blank"><span style="color: rgb(0\, 0\, 205)\;">Quint Investments &amp\; Insurance</span></a>\, and&nbsp\;<a href="http://www.hudsonvalleycpas.com"><span style="color: rgb(0\, 0\, 205)\;"><span style="background-color: rgb(255\, 255\, 255)\;">Mehl &amp\; Associates\, CPA&#39\;s</span></span></a></span></span></p>\n
LOCATION:Shadows on the Hudson 176 Rinaldi Blvd\, Poughkeepsie
UID:e.2770.10476395
SEQUENCE:3
DTSTAMP:20260425T232145Z
URL:https://business.dcrcoc.org/events/details/business-after-hours-10476395
END:VEVENT

END:VCALENDAR
