BEGIN:VCALENDAR
VERSION:2.0
PRODID:-//ChamberMaster//Event Calendar 2.0//EN
METHOD:PUBLISH
X-PUBLISHED-TTL:P3D
REFRESH-INTERVAL:P3D
CALSCALE:GREGORIAN
BEGIN:VEVENT
DTSTART:20180301T220000Z
DTEND:20180302T000000Z
X-MICROSOFT-CDO-ALLDAYEVENT:FALSE
SUMMARY:Business After Hours
DESCRIPTION:Monthly networking event. Join us for a sneak peek of Adams' annual garden show.\n\n\n\nSponsored by: Ulster Savings Bank
X-ALT-DESC;FMTTYPE=text/html:<p><span style="font-size: 14px\;"><span style="font-family: arial\;">Monthly networking event. Join us for a sneak peek of Adams&#39\; annual garden show.<br />\n<br />\nSponsored by: </span></span><a href="http://www.ulstersavings.com/home/home">Ulster Savings Bank</a></p>\n
LOCATION:Adams Fairacre Farms Garden Center 160 Old Post Road Wappingers Falls
UID:e.2770.10476412
SEQUENCE:3
DTSTAMP:20260425T210346Z
URL:https://business.dcrcoc.org/events/details/business-after-hours-10476412
END:VEVENT

END:VCALENDAR
