BEGIN:VCALENDAR
VERSION:2.0
PRODID:-//ChamberMaster//Event Calendar 2.0//EN
METHOD:PUBLISH
X-PUBLISHED-TTL:P3D
REFRESH-INTERVAL:P3D
CALSCALE:GREGORIAN
BEGIN:VEVENT
DTSTART:20180328T210000Z
DTEND:20180328T230000Z
X-MICROSOFT-CDO-ALLDAYEVENT:FALSE
SUMMARY:Business After Hours
DESCRIPTION:Monthly networking event.\n\n\n\nSponsored by: TEG Federal Credit Union
X-ALT-DESC;FMTTYPE=text/html:<p><span style="font-size: 14px\;"><span style="font-family: arial\;">Monthly networking event.<br />\n<br />\nSponsored by: <a href="https://www.tegfcu.com/">TEG Federal Credit Union</a></span></span></p>\n
LOCATION:The Culinary Institute of America Marriott Pavilion 1946 Campus Drive\, Hyde Park
UID:e.2770.10476418
SEQUENCE:3
DTSTAMP:20260425T210346Z
URL:https://business.dcrcoc.org/events/details/business-after-hours-10476418
END:VEVENT

END:VCALENDAR
