BEGIN:VCALENDAR
VERSION:2.0
PRODID:-//ChamberMaster//Event Calendar 2.0//EN
METHOD:PUBLISH
X-PUBLISHED-TTL:P3D
REFRESH-INTERVAL:P3D
CALSCALE:GREGORIAN
BEGIN:VEVENT
DTSTART:20180425T210000Z
DTEND:20180425T230000Z
X-MICROSOFT-CDO-ALLDAYEVENT:FALSE
SUMMARY:Business After Hours
DESCRIPTION:Monthly networking event.\n\n\n\nSponsored by: Stenger\, Roberts\, Davis & Diamond\, LLP\, and Branding Pros
X-ALT-DESC;FMTTYPE=text/html:<p><span style="font-size: 14px\;"><span style="font-family: arial\;">Monthly networking event.<br />\n<br />\nSponsored by: </span></span><span><a href="http://srddlaw.com/">Stenger\, Roberts\, Davis &amp\; Diamond\, LLP\,</a> and <a href="http://www.brandingpros.com/">Branding Pros</a></span></p>\n
LOCATION:The Links at Union Vale 153 N Parliman Rd Lagrangeville\, NY 12540
UID:e.2770.10476426
SEQUENCE:3
DTSTAMP:20260425T194844Z
URL:https://business.dcrcoc.org/events/details/business-after-hours-10476426
END:VEVENT

END:VCALENDAR
