BEGIN:VCALENDAR
VERSION:2.0
PRODID:-//ChamberMaster//Event Calendar 2.0//EN
METHOD:PUBLISH
X-PUBLISHED-TTL:P3D
REFRESH-INTERVAL:P3D
CALSCALE:GREGORIAN
BEGIN:VEVENT
DTSTART:20180523T210000Z
DTEND:20180523T230000Z
X-MICROSOFT-CDO-ALLDAYEVENT:FALSE
SUMMARY:Business After Hours
DESCRIPTION:Monthly networking event.\n\n\n\n* There will be a press conference for the 27th Annual Hudson Valley Hot-Air Balloon Festival prior to this event from 4-5:00 p.m.\n\n\n\nSponsored by: \np.p1 {margin: 0.0px 0.0px 0.0px 0.0px\; font: 15.0px Calibri\; color: #1e497d}\n\nRBT CPAs\, LLP
X-ALT-DESC;FMTTYPE=text/html:<p><span style="font-size: 14px\;"><span style="font-family: arial\;">Monthly networking event.<br />\n<br />\n*&nbsp\;There will be a press conference for the 27th Annual Hudson Valley Hot-Air Balloon Festival prior to this event from 4-5:00 p.m.<br />\n<br />\nSponsored by:&nbsp\;</span></span>\n<style type="text/css">p.p1 {margin: 0.0px 0.0px 0.0px 0.0px\; font: 15.0px Calibri\; color: #1e497d}\n</style>\n<a href="http://www.rbtcpas.com/" target="_blank">RBT CPAs\, LLP</a></p>\n
LOCATION:p.p1 {margin: 0.0px 0.0px 0.0px 0.0px\; font: 15.0px Calibri\; color: #1e497d} The Beekman Arms & Delamater Inn 6387 Mill St.\, Rhinebeck\, NY
UID:e.2770.10476431
SEQUENCE:3
DTSTAMP:20260425T181719Z
URL:https://business.dcrcoc.org/events/details/business-after-hours-10476431
END:VEVENT

END:VCALENDAR
