BEGIN:VCALENDAR
VERSION:2.0
PRODID:-//ChamberMaster//Event Calendar 2.0//EN
METHOD:PUBLISH
X-PUBLISHED-TTL:P3D
REFRESH-INTERVAL:P3D
CALSCALE:GREGORIAN
BEGIN:VEVENT
DTSTART:20180725T210000Z
DTEND:20180725T230000Z
X-MICROSOFT-CDO-ALLDAYEVENT:FALSE
SUMMARY:Business After Hours
DESCRIPTION:The Chamber's monthly networking event featuring complimentary hors d'oeuvres and a cash bar.\n\n\n\nSponsored by:\n\nIntegrated Enterprise Solutions\, Inc.\n\nand\n\nMid-Hudson Valley Federal Credit Union
X-ALT-DESC;FMTTYPE=text/html:<p><span style="font-size:14px\;"><span style="font-family: arial\;">The Chamber&#39\;s monthly networking event featuring complimentary hors d&#39\;oeuvres and a cash bar.<br />\n<br />\n<span style="font-size:16px\;"><strong>Sponsored by</strong>:</span></span></span><br />\n<span style="font-family:times new roman\;"><span style="font-size:16px\;"><a href="http://ies-ny.com/"><span style="color:#0000FF\;">Integrated Enterprise Solutions\, Inc.</span></a><br />\n<strong>and</strong><br />\n<a href="http://www.mhvfcu.com" target="_blank"><span style="color:#0000FF\;">Mid-Hudson Valley Federal Credit Union</span></a>&nbsp\;</span></span></p>\n
LOCATION:Eighteen by Coppola's at Baird State Park 14 Maintenance Lane Pleasant Valley\, NY 12569
UID:e.2770.10476487
SEQUENCE:3
DTSTAMP:20260425T154909Z
URL:https://business.dcrcoc.org/events/details/business-after-hours-10476487
END:VEVENT

END:VCALENDAR
