BEGIN:VCALENDAR
VERSION:2.0
PRODID:-//ChamberMaster//Event Calendar 2.0//EN
METHOD:PUBLISH
X-PUBLISHED-TTL:P3D
REFRESH-INTERVAL:P3D
CALSCALE:GREGORIAN
BEGIN:VEVENT
DTSTART:20180829T210000Z
DTEND:20180829T230000Z
X-MICROSOFT-CDO-ALLDAYEVENT:FALSE
SUMMARY:Business After Hours
DESCRIPTION:REGISTRATION REQUIRED - WALK-IN ATTENDEES WILL NOT BE ACCEPTED\n\n\n\nMonthly networking event featuring wine tastings and complimentary hors d'oeuvres. \n\n\n\nSponsored by: \n\nBank Of Millbrook\n\nDCH Wappingers Falls Toyota\n\nMackey Butts & Wise\, LLP\n\nMeyer Contracting Corporation\np.p1 {margin: 0.0px 0.0px 0.0px 0.0px\; font: 15.0px Calibri}
X-ALT-DESC;FMTTYPE=text/html:<p><span style="font-size: 14px\;"><span style="font-family: arial\;"><span style="color: rgb(255\, 0\, 0)\;"><strong>REGISTRATION REQUIRED - WALK-IN&nbsp\;ATTENDEES WILL NOT BE ACCEPTED</strong></span><br />\n<br />\n<span style="font-size: 16px\;">Monthly networking event featuring wine tastings and complimentary hors d&#39\;oeuvres.&nbsp\;</span><br />\n<br />\n<strong>Sponsored by: </strong></span></span><br />\n<strong style="color: rgb(51\, 51\, 51)\; font-family: arial\; font-size: 14px\; background-color: rgb(255\, 255\, 255)\;"><a href="https://www.bankofmillbrook.com/" style="color: rgb(7\, 130\, 193)\;"><span style="color: rgb(0\, 0\, 255)\;">Bank Of Millbrook</span></a></strong><br />\n<span style="font-size: 14px\;"><span style="font-family: arial\;"><strong><a href="https://www.dchwappingerstoyota.com/"><span style="color: rgb(0\, 0\, 255)\;">DCH Wappingers Falls Toyota</span></a><br />\n<a href="https://mbwise.com/"><span style="color: rgb(0\, 0\, 255)\;">Mackey Butts &amp\; Wise\, LLP</span></a></strong></span></span><br />\n<strong style="color: rgb(51\, 51\, 51)\; font-family: arial\; font-size: 14px\; background-color: rgb(255\, 255\, 255)\;"><a href="http://www.meyercontracting.com/" style="color: rgb(7\, 130\, 193)\;"><span style="color: rgb(0\, 0\, 255)\;">Meyer Contracting Corporation</span></a></strong></p>\n<style type="text/css">p.p1 {margin: 0.0px 0.0px 0.0px 0.0px\; font: 15.0px Calibri}\n</style>\n
LOCATION:Millbrook Vineyards & Winery 26 Wing Road Millbrook\, NY 12545
UID:e.2770.10476493
SEQUENCE:3
DTSTAMP:20260425T143830Z
URL:https://business.dcrcoc.org/events/details/business-after-hours-10476493
END:VEVENT

END:VCALENDAR
