BEGIN:VCALENDAR
VERSION:2.0
PRODID:-//ChamberMaster//Event Calendar 2.0//EN
METHOD:PUBLISH
X-PUBLISHED-TTL:P3D
REFRESH-INTERVAL:P3D
CALSCALE:GREGORIAN
BEGIN:VEVENT
DTSTART:20180926T210000Z
DTEND:20180926T230000Z
X-MICROSOFT-CDO-ALLDAYEVENT:FALSE
SUMMARY:Business After Hours
DESCRIPTION:The Chamber's monthly networking event featuring complimentary hors d'oeuvres and a cash bar.\n\n\n\nSponsored by: Mehl & Associates\, CPAs and M&T Bank
X-ALT-DESC;FMTTYPE=text/html:<p><span style="font-size: 14px\;"><span style="font-family: arial\;">The Chamber&#39\;s monthly networking event featuring complimentary hors d&#39\;oeuvres and a cash bar.<br />\n<br />\nSponsored by: <a href="http://www.hudsonvalleycpas.com/">Mehl &amp\; Associates\, CPAs</a> and <a href="https://www.mtb.com/home-page">M&amp\;T Bank</a></span></span></p>\n
LOCATION:Hyde Park Brewing Co. 4076 Albany Post Road Hyde Park\, NY
UID:e.2770.10476507
SEQUENCE:3
DTSTAMP:20260425T131202Z
URL:https://business.dcrcoc.org/events/details/business-after-hours-10476507
END:VEVENT

END:VCALENDAR
