BEGIN:VCALENDAR
VERSION:2.0
PRODID:-//ChamberMaster//Event Calendar 2.0//EN
METHOD:PUBLISH
X-PUBLISHED-TTL:P3D
REFRESH-INTERVAL:P3D
CALSCALE:GREGORIAN
BEGIN:VEVENT
DTSTART:20181010T210000Z
DTEND:20181010T230000Z
X-MICROSOFT-CDO-ALLDAYEVENT:FALSE
SUMMARY:Business After Hours
DESCRIPTION:PLEASE CALL TO REGISTER *** (845) 454-1700 Ext. 1000\n\n\n\nMonthly networking event.\n\n\n\nSponsored by: Marshall and Sterling Insurance and Rhinebeck Bank
X-ALT-DESC;FMTTYPE=text/html:<p><span style="font-size: 14px\;"><span style="font-family: arial\;"><strong><span style="color:#FF0000\;">PLEASE CALL TO REGISTER *** (845) 454-1700 Ext. 1000</span></strong><br />\n<br />\nMonthly networking event.<br />\n<br />\nSponsored by: <a href="https://www.marshallsterling.com/">Marshall and Sterling Insurance</a> and <a href="https://www.rhinebeckbank.com/">Rhinebeck Bank</a></span></span></p>\n
LOCATION:Dutchess Manor 263 Route 9D Beacon\, NY 12508
UID:e.2770.10476512
SEQUENCE:3
DTSTAMP:20260425T131203Z
URL:https://business.dcrcoc.org/events/details/business-after-hours-10476512
END:VEVENT

END:VCALENDAR
