BEGIN:VCALENDAR
VERSION:2.0
PRODID:-//ChamberMaster//Event Calendar 2.0//EN
METHOD:PUBLISH
X-PUBLISHED-TTL:P3D
REFRESH-INTERVAL:P3D
CALSCALE:GREGORIAN
BEGIN:VEVENT
DTSTART:20190424T210000Z
DTEND:20190424T230000Z
X-MICROSOFT-CDO-ALLDAYEVENT:FALSE
SUMMARY:Business After Hours
DESCRIPTION:To RSVP: Please Call 845-454-1700 Ext. 1000 \n\n\n\nMonthly networking event.\n\n\n\nSponsored by:\n\nBranding Pros\n\nStenger\, Roberts\, Davis & Diamond LLP/SRDD Law
X-ALT-DESC;FMTTYPE=text/html:<p><br />\n<span style="font-size: 16px\;"><span style="font-family: arial\;"><span style="color: rgb(0\, 0\, 255)\;"><strong>To RSVP: Please Call 845-454-1700 Ext. 1000 </strong></span><br />\n<br />\nMonthly networking event.<br />\n<br />\nSponsored by:<br />\n<strong><a href="https://www.brandingpros.com" target="_blank"><span style="color: rgb(0\, 0\, 255)\;">Branding Pros</span></a></strong></span><br />\n<a href="https://srddlaw.com/?gclid=EAIaIQobChMI7tXBme2Q4QIVxpCfCh1-OAUnEAAYASAAEgIg2vD_BwE" target="_blank"><span style="color: rgb(0\, 0\, 255)\;"><strong><span style="font-family: arial\;"><span style="letter-spacing: -0.3px\;">Stenger\, Roberts\, Davis &amp\; Diamond LLP/SRDD Law</span></span></strong></span></a></span></p>\n\n<div>&nbsp\;</div>\n
LOCATION:Poughkeepsie Tennis Club 135 South Hamilton Street Poughkeepsie\, NY 12601
UID:e.2770.10479790
SEQUENCE:3
DTSTAMP:20260423T062434Z
URL:https://business.dcrcoc.org/events/details/business-after-hours-10479790
END:VEVENT

END:VCALENDAR
