BEGIN:VCALENDAR
VERSION:2.0
PRODID:-//ChamberMaster//Event Calendar 2.0//EN
METHOD:PUBLISH
X-PUBLISHED-TTL:P3D
REFRESH-INTERVAL:P3D
CALSCALE:GREGORIAN
BEGIN:VEVENT
DTSTART:20190731T210000Z
DTEND:20190731T230000Z
X-MICROSOFT-CDO-ALLDAYEVENT:FALSE
SUMMARY:Business After Hours
DESCRIPTION:Monthly networking event.\n\n\n\nSponsored by: Antalek & Moore Insurance\, Talex Media\, Tompkins Mahopac Bank
X-ALT-DESC;FMTTYPE=text/html:<p><span style="font-size: 16px\;"><span style="font-family: arial\;">Monthly networking event.<br />\n<br />\nSponsored by: <a href="https://antalek-moore.com/" target="_blank"><span style="color: rgb(0\, 0\, 255)\;"><strong>Antalek &amp\; Moore Insurance</strong></span></a><span style="color: rgb(0\, 0\, 0)\;">\, </span><strong><a href="https://www.talexmedia.com/" target="_blank"><span style="color: rgb(0\, 0\, 255)\;">Talex Media</span></a></strong><span style="color: rgb(0\, 0\, 0)\;">\, </span><strong><a href="https://www.mahopacbank.com/" target="_blank"><span style="color: rgb(0\, 0\, 255)\;">Tompkins Mahopac Bank</span></a></strong></span></span></p>\n
LOCATION:Hudson Valley Renegades Dutchess Stadium 1500 Route 9D Wappingers Falls
UID:e.2770.10479884
SEQUENCE:3
DTSTAMP:20260423T011601Z
URL:https://business.dcrcoc.org/events/details/business-after-hours-10479884
END:VEVENT

END:VCALENDAR
