BEGIN:VCALENDAR
VERSION:2.0
PRODID:-//ChamberMaster//Event Calendar 2.0//EN
METHOD:PUBLISH
X-PUBLISHED-TTL:P3D
REFRESH-INTERVAL:P3D
CALSCALE:GREGORIAN
BEGIN:VEVENT
DTSTART:20190925T210000Z
DTEND:20190925T230000Z
X-MICROSOFT-CDO-ALLDAYEVENT:FALSE
SUMMARY:Business After Hours
DESCRIPTION:Monthly networking event.\n\n\n\nSponsored by: M & T Bank\, DBS Remodel
X-ALT-DESC;FMTTYPE=text/html:<p><span style="font-size: 14px\;"><span style="font-family: arial\;">Monthly networking event.<br />\n<br />\n<strong>Sponsored by:<span style="color: rgb(0\, 0\, 255)\;"> </span><a href="https://www.mtb.com/home-page?ch=psb&amp\;cid=psb|2019brand|81020291073030|bing|1296324334821809|kwd-81020319991060:aud-806080720:loc-71249&amp\;matchtype=e&amp\;adid=81020291073030&amp\;addisttype=s&amp\;source=SEM%20Bing&amp\;msclkid=8f0364e5615916712cf63879866a19a4" target="_blank"><span style="color: rgb(0\, 0\, 255)\;">M &amp\; T Bank</span></a>\, <a href="https://www.dbsremodel.com/" target="_blank"><span style="color: rgb(0\, 0\, 255)\;">DBS Remodel</span></a></strong></span></span></p>\n
LOCATION:La Puerta Azul 2510 Route 44 Salt Point
UID:e.2770.10479889
SEQUENCE:3
DTSTAMP:20260422T215459Z
URL:https://business.dcrcoc.org/events/details/business-after-hours-10479889
END:VEVENT

END:VCALENDAR
