BEGIN:VCALENDAR
VERSION:2.0
PRODID:-//ChamberMaster//Event Calendar 2.0//EN
METHOD:PUBLISH
X-PUBLISHED-TTL:P3D
REFRESH-INTERVAL:P3D
CALSCALE:GREGORIAN
BEGIN:VEVENT
DTSTART:20191211T220000Z
DTEND:20191212T000000Z
X-MICROSOFT-CDO-ALLDAYEVENT:FALSE
SUMMARY:Business After Hours
DESCRIPTION:Monthly networking event.\n\n\n\nSponsored by:\n\nBranding Pros\n\nMid-Hudson Valley Federal Credit Union\n\nStenger\, Roberts\, Davis and Diamond\, SRDD Law
X-ALT-DESC;FMTTYPE=text/html:<p><span style="font-size: 14px\;"><span style="font-family: arial\;">Monthly networking event.</span></span><br />\n<br />\n<font size="3">Sponsored by:<br />\n<strong><a href="https://www.brandingpros.com/" target="_blank"><span style="color: rgb(0\, 0\, 255)\;">Branding Pros</span></a></strong><br />\n<strong><a href="https://www.mhvfcu.com/" target="_blank"><span style="color: rgb(0\, 0\, 255)\;">Mid-Hudson Valley Federal Credit Union</span></a></strong><br />\n<strong><a href="https://srddlaw.com/your-personal-injury-team/" target="_blank"><span style="color: rgb(0\, 0\, 255)\;">Stenger\, Roberts\, Davis and Diamond\, SRDD Law</span></a></strong></font></p>\n
LOCATION:All Sport Health and Fitness 17 Old Main Street Fishkill
UID:e.2770.10479905
SEQUENCE:3
DTSTAMP:20260422T151701Z
URL:https://business.dcrcoc.org/events/details/business-after-hours-10479905
END:VEVENT

END:VCALENDAR
