BEGIN:VCALENDAR
VERSION:2.0
PRODID:-//ChamberMaster//Event Calendar 2.0//EN
METHOD:PUBLISH
X-PUBLISHED-TTL:P3D
REFRESH-INTERVAL:P3D
CALSCALE:GREGORIAN
BEGIN:VEVENT
DTSTART:20200305T220000Z
DTEND:20200306T000000Z
X-MICROSOFT-CDO-ALLDAYEVENT:FALSE
SUMMARY:Business After Hours
DESCRIPTION:Members Only *** Pre-Registration is required\n\nMonthly Networking Event\n\nSponsored by: Ulster Savings Bank
X-ALT-DESC;FMTTYPE=text/html:<span style="font-family:tahoma\;"><span style="font-size: 16px\;"><strong><span style="color:#B22222\;">Members Only *** Pre-Registration is required</span></strong><br />\nMonthly Networking Event<br />\nSponsored by: <strong><a href="https://www.ulstersavings.com/" target="_blank"><span style="color:#0000FF\;">Ulster Savings Bank</span></a></strong></span></span>
LOCATION:Adams Fairacre Farms 160 Old Post Road Wappingers Falls
UID:e.2770.10482496
SEQUENCE:3
DTSTAMP:20260422T101601Z
URL:https://business.dcrcoc.org/events/details/business-after-hours-10482496
END:VEVENT

END:VCALENDAR
