BEGIN:VCALENDAR
VERSION:2.0
PRODID:-//ChamberMaster//Event Calendar 2.0//EN
METHOD:PUBLISH
X-PUBLISHED-TTL:P3D
REFRESH-INTERVAL:P3D
CALSCALE:GREGORIAN
BEGIN:VEVENT
DTSTART:20171108T220000Z
DTEND:20171109T000000Z
X-MICROSOFT-CDO-ALLDAYEVENT:FALSE
SUMMARY:Business After Hours
DESCRIPTION:Monthly networking event.\n\nSponsored by N&S Supply
X-ALT-DESC;FMTTYPE=text/html:<p>Monthly networking event.</p>\n\n<p>Sponsored by <a href="http://www.nssupply.com/" target="_blank">N&amp\;S Supply</a></p>\n
LOCATION:N & S Supply Showroom 205 Old Route 9 Fishkill
UID:e.2770.10474044
SEQUENCE:3
DTSTAMP:20260426T020535Z
URL:https://business.dcrcoc.org/events/details/business-after-hours-11-08-2017-10474044
END:VEVENT

END:VCALENDAR
