BEGIN:VCALENDAR
VERSION:2.0
PRODID:-//ChamberMaster//Event Calendar 2.0//EN
METHOD:PUBLISH
X-PUBLISHED-TTL:P3D
REFRESH-INTERVAL:P3D
CALSCALE:GREGORIAN
BEGIN:VEVENT
DTSTART:20171213T220000Z
DTEND:20171214T000000Z
X-MICROSOFT-CDO-ALLDAYEVENT:FALSE
SUMMARY:Business After Hours
DESCRIPTION:While networking\, attendees will enjoy hors d'oeuvres from the gourmet menu prepared by Brookmeade's Culinary-trained chefs and learn more about Arbor Ridge's luxurious one- and two-bedroom independent living apartments set on 75 country acres just outside the Village of Rhinebeck. \nThe Hudson Valley Young Professionals will have a collection box available for donations of new\, unwrapped toys as part of its ongoing Toy Drive sponsored by Foam and Wash and Guardian Self Storage. Gifts this year will benefit children and teens receiving services through The Center for the Prevention of Child Abuse.\n\n \nSponsored by Branding Pros\, Riverside Bank - a division of Salisbury Bank & Trust Company and SRDD Law.
X-ALT-DESC;FMTTYPE=text/html:<p>While networking\, attendees will enjoy hors d&#39\;oeuvres from the gourmet menu prepared by Brookmeade&#39\;s&nbsp\;Culinary-trained chefs and&nbsp\;learn more about Arbor Ridge&rsquo\;s luxurious one- and two-bedroom independent living apartments set on 75 country acres just outside the Village of Rhinebeck.&nbsp\;</p>\n<strong>The Hudson Valley Young Professionals will have a collection box available for donations of new\, unwrapped toys as part of its ongoing Toy Drive sponsored by&nbsp\;<a href="http://www.foamandwash.com/" target="_blank">Foam and Wash</a>&nbsp\;and&nbsp\;<a href="http://guardianselfstorage.com/" target="_blank">Guardian Self Storage</a>. Gifts this year will benefit children and teens receiving services through The Center for the Prevention of Child Abuse.</strong><br />\n&nbsp\;\n<p>Sponsored by&nbsp\;<span style="color: rgb(0\, 0\, 205)\;"><span style="font-family: calibri\, sans-serif\;"><span style="font-size: 11pt\;">Branding Pros</span></span></span>\,&nbsp\;<a href="https://www.salisburybank.com/riverside/" target="_blank">Riversid</a><a href="https://www.salisburybank.com/riverside/" target="_blank">e</a><a href="https://www.salisburybank.com/riverside/" target="_blank"> Bank - a division of Salisbury Bank &amp\; Trust </a><a href="https://www.salisburybank.com/riverside/" target="_blank">Company</a>&nbsp\;and <a href="http://www.srddlaw.com" target="_blank">SRDD Law</a>.</p>\n\n<p>&nbsp\;</p>\n
LOCATION:Arbor Ridge at Brookmeade 11 Mountain Laurel Lane Rhinebeck\, NY 12572
UID:e.2770.10474045
SEQUENCE:3
DTSTAMP:20260426T004941Z
URL:https://business.dcrcoc.org/events/details/business-after-hours-12-13-2017-10474045
END:VEVENT

END:VCALENDAR
