BEGIN:VCALENDAR
VERSION:2.0
PRODID:-//ChamberMaster//Event Calendar 2.0//EN
METHOD:PUBLISH
X-PUBLISHED-TTL:P3D
REFRESH-INTERVAL:P3D
CALSCALE:GREGORIAN
BEGIN:VEVENT
DTSTART:20200527T210000Z
DTEND:20200527T230000Z
X-MICROSOFT-CDO-ALLDAYEVENT:FALSE
SUMMARY:Business After Hours in the Zoom Room
DESCRIPTION:When we can safely reopen our businesses - our panel will tell you why and how:\n\n \n\nPanelists  \n\n	David Bova\, Millbrook Vineyard and Winery\n	Gaye Mallet\, Adams Fairacre Farms\n	Mike Turturro\, RBT\, CPAs\n	David Wise\, Mackey Butts & Wise\n\n  \n\nSponsored by: Adams Fairacre Farms\, RBT\, CPAs\, Mackey Butts & Wise\n\n \n\n*Including a special toast to Thinking Local First\, courtesy of Millbrook Vineyards and Winery
X-ALT-DESC;FMTTYPE=text/html:<br />\n<span style="font-size:18px\;"><span style="font-family:times new roman\;"><strong>When we can safely reopen our businesses - our panel will tell you why and how:</strong><br />\n&nbsp\;<br />\nPanelists &ndash\;</span></span>\n<ul>\n	<li><span style="font-size:18px\;"><span style="font-family:times new roman\;">David Bova\, Millbrook Vineyard and Winery</span></span></li>\n	<li><span style="font-size:18px\;"><span style="font-family:times new roman\;">Gaye Mallet\, Adams Fairacre Farms</span></span></li>\n	<li><span style="font-size:18px\;"><span style="font-family:times new roman\;">Mike Turturro\, RBT\, CPAs</span></span></li>\n	<li><span style="font-size:18px\;"><span style="font-family:times new roman\;">David Wise\, Mackey Butts &amp\; Wise</span></span></li>\n</ul>\n<span style="font-size:18px\;"><span style="font-family:times new roman\;"> &nbsp\;<br />\n<strong>Sponsored by</strong>: <strong><a href="https://adamsfarms.com/" target="_blank"><span style="color:#0000FF\;">Adams Fairacre Farms</span></a><span style="color:#000000\;">\,</span></strong>&nbsp\;<strong><a href="https://www.rbtcpas.com/" target="_blank"><span style="color:#0000FF\;">RBT\, CPAs</span></a><span style="color:#000000\;">\,</span></strong> <strong><a href="https://mbwise.com/" target="_blank"><span style="color:#0000FF\;">Mackey Butts &amp\; Wise</span></a></strong><br />\n&nbsp\;<br />\n*Including a special toast to Thinking Local First\, courtesy of <em>Millbrook Vineyards and Winery</em></span></span>
LOCATION:
UID:e.2770.10483289
SEQUENCE:3
DTSTAMP:20260422T063940Z
URL:https://business.dcrcoc.org/events/details/business-after-hours-in-the-zoom-room-10483289
END:VEVENT

END:VCALENDAR
