BEGIN:VCALENDAR
VERSION:2.0
PRODID:-//ChamberMaster//Event Calendar 2.0//EN
METHOD:PUBLISH
X-PUBLISHED-TTL:P3D
REFRESH-INTERVAL:P3D
CALSCALE:GREGORIAN
BEGIN:VEVENT
DTSTART:20200422T210000Z
DTEND:20200422T230000Z
X-MICROSOFT-CDO-ALLDAYEVENT:FALSE
SUMMARY:Business After Hours - POSTPONED***
DESCRIPTION:Guests with registrations for postponed events will be automatically registered for the re-scheduled event\, and notified of the new date and time.\n\n\n\nMonthly Networking Event\n\n\n\nSponsored by: Branding Pros
X-ALT-DESC;FMTTYPE=text/html:<p><br />\n<span style="background: yellow\;"><span style="font-family: tahoma\, sans-serif\;"><span style="font-size: 16pt\;">Guests with registrations for postponed events will be automatically registered for the re-scheduled event\, and notified of the new date and time.</span></span></span><br />\n<br />\n<span style="font-family:tahoma\;"><span style="font-size: 16px\;">Monthly Networking Event<br />\n<br />\nSponsored by: <strong><a href="https://www.brandingpros.com/"><span style="color:#0000FF\;">Branding Pros</span></a><span style="color:#0000FF\;">&nbsp\;</span></strong></span></span></p>\n
LOCATION:Jason Patricks on 44 1112 Dutchess Turnpike Poughkeepsie
UID:e.2770.10481440
SEQUENCE:3
DTSTAMP:20260422T083456Z
URL:https://business.dcrcoc.org/events/details/business-after-hours-postponed-04-22-2020-10481440
END:VEVENT

END:VCALENDAR
