BEGIN:VCALENDAR
VERSION:2.0
PRODID:-//ChamberMaster//Event Calendar 2.0//EN
METHOD:PUBLISH
X-PUBLISHED-TTL:P3D
REFRESH-INTERVAL:P3D
CALSCALE:GREGORIAN
BEGIN:VEVENT
DTSTART:20200325T210000Z
DTEND:20200325T230000Z
X-MICROSOFT-CDO-ALLDAYEVENT:FALSE
SUMMARY:Business After Hours - POSTPONED***
DESCRIPTION:Guests with registrations for postponed events will be automatically registered for the re-scheduled event\, and notified of the new date and time.\n\n\n\nMonthly networking event.\n\n\n\n*** Pre-registration is required. \n\n\n\nSponsored by: Rondout Bank
X-ALT-DESC;FMTTYPE=text/html:<p>&nbsp\;<br />\n<span style="background:yellow\;"><span style="color:#333333\;"><span style="font-family:tahoma\,sans-serif\;"><span style="font-size:16.0pt\;">Guests with registrations for postponed events will be automatically registered for the re-scheduled event\, and notified of the new date and time.</span></span></span></span><br />\n<br />\n<span style="font-family:tahoma\;"><span style="font-size:16px\;">Monthly networking event.</span><br />\n<br />\n<strong style="font-family: arial\; font-size: 16px\;"><span style="color: rgb(0\, 0\, 255)\;">*** Pre-registration is&nbsp\;required.&nbsp\;</span></strong><br />\n<br />\n<span style="font-size:16px\;">Sponsored by: <a href="https://www.rondoutbank.com/"><span style="color:#0000FF\;"><strong>Rondout Bank</strong></span></a></span></span></p>\n
LOCATION:The Culinary Institute of America Marriott Pavilion 1946 Campus Drive Hyde Park
UID:e.2770.10481436
SEQUENCE:3
DTSTAMP:20260422T102944Z
URL:https://business.dcrcoc.org/events/details/business-after-hours-postponed-10481436
END:VEVENT

END:VCALENDAR
