BEGIN:VCALENDAR
VERSION:2.0
PRODID:-//ChamberMaster//Event Calendar 2.0//EN
METHOD:PUBLISH
X-PUBLISHED-TTL:P3D
REFRESH-INTERVAL:P3D
CALSCALE:GREGORIAN
BEGIN:VEVENT
DTSTART:20181010T193000Z
DTEND:20181010T210000Z
X-MICROSOFT-CDO-ALLDAYEVENT:FALSE
SUMMARY:Business Education Seminar
DESCRIPTION:Save the Date for our Business Education Seminar - Year-End Planning 101!  \n\n \nThe Business Education Committee will present a seminar on Year-End Planning 101\, where Senior Accountant David Zastenchik of Mehl & Associates\, CPAs will speak on the basics of finance and tax for small businesses. \n\n\n\nCome and learn about the new deductions as well long-term financial business planning tips. \n\n\nSponsored by:\n\n\n\nStenger\, Roberts\, Davis & Diamond\, LLP\n\nMehl & Associates\, CPA's
X-ALT-DESC;FMTTYPE=text/html:<p style="background: white\; margin: 0in 0in 0pt\;"><span style="font-size: 14px\;"><span style="font-family: arial\;"><span style="color: rgb(29\, 33\, 41)\; mso-fareast-font-family: &quot\;Times New Roman&quot\;\; mso-bidi-font-family: Helvetica\;">Save the Date for our&nbsp\;Business Education Seminar - Year-End Planning 101!&nbsp\;&nbsp\;</span></span></span><br />\n&nbsp\;</p>\n<span style="font-size: 14px\;"><span style="font-family: arial\;">The Business Education Committee will present a seminar on Year-End Planning 101\, where&nbsp\;<font color="#1d2129">Senior Accountant David Zastenchik of Mehl &amp\; Associates\, CPAs will speak on the basics of finance&nbsp\;</font><span style="color: rgb(29\, 33\, 41)\; mso-fareast-font-family: &quot\;Times New Roman&quot\;\; mso-bidi-font-family: Helvetica\;">and tax for small businesses</span>.&nbsp\;</span></span>\n\n<p style="background: white\; margin: 0in 0in 0pt\;"><br />\n<span style="color: rgb(29\, 33\, 41)\; font-family: &quot\;inherit&quot\;\,serif\; font-size: 10.5pt\; mso-fareast-font-family: &quot\;Times New Roman&quot\;\; mso-bidi-font-family: Helvetica\;"><span style="font-size: 14px\;"><span style="font-family: arial\;"><span style="color: rgb(29\, 33\, 41)\; mso-fareast-font-family: &quot\;Times New Roman&quot\;\; mso-bidi-font-family: Helvetica\;">Come and learn about the new deductions as well long-term financial business planning tips.&nbsp\;</span></span></span></span></p>\n<br />\n<font face="arial"><span style="font-size: 16px\;">Sponsored by:</span></font><br />\n<br style="font-family: arial\;" />\n<strong style="font-family: arial\;"><a href="http://www.srddlaw.com" style="font-size: 16px\;" target="_blank"><span style="color: rgb(0\, 0\, 255)\;">Stenger\, Roberts\, Davis &amp\; Diamond\, LLP</span></a></strong><br style="font-family: arial\;" />\n<strong style="font-family: arial\;"><a href="http://www.hudsonvalleycpas.com" style="font-size: 16px\;" target="_blank"><span style="color: rgb(0\, 0\, 255)\;">Mehl &amp\; Associates\, CPA&#39\;s</span></a></strong>
LOCATION:Dutchess Manor 263 Route 9D Beacon\, NY 12508
UID:e.2770.10476511
SEQUENCE:3
DTSTAMP:20260425T114719Z
URL:https://business.dcrcoc.org/events/details/business-education-seminar-10476511
END:VEVENT

END:VCALENDAR
