BEGIN:VCALENDAR
VERSION:2.0
PRODID:-//ChamberMaster//Event Calendar 2.0//EN
METHOD:PUBLISH
X-PUBLISHED-TTL:P3D
REFRESH-INTERVAL:P3D
CALSCALE:GREGORIAN
BEGIN:VEVENT
DTSTART:20190619T130000Z
DTEND:20190619T150000Z
X-MICROSOFT-CDO-ALLDAYEVENT:FALSE
SUMMARY:Business Education Seminar
DESCRIPTION:This complimentary seminar\, aptly named "Chamber 102: From a Member's Perspective\," will be a roundtable from Chamber staff and members. They will give an overview of the Chamber\, The Chamber Foundation\, and The Workforce Development Center. They will discuss the advocacy of the Chamber\, what SCORE/SBDC is\, volunteering and being a part of committees\, Ribbon Cuttings for new businesses\, Member News\, and Radio and Marketing opportunities. This is a great opportunity to build and develop your membership and involvement with the Chamber. \n\n \nSponsored by: Stenger\, Roberts\, Davis & Diamond\, LLP and Rondout Savings Bank
X-ALT-DESC;FMTTYPE=text/html:<p style="background: white\; margin: 0in 0in 0pt\;"><span style="font-size: 16px\;"><span style="font-family: times new roman\;"><span style="color: rgb(0\, 0\, 0)\;">This complimentary seminar\, aptly named &ldquo\;Chamber 102: From a Member&rsquo\;s Perspective\,&rdquo\; will be a roundtable from Chamber staff and members. They will give an overview of the Chamber\, The Chamber Foundation\, and The Workforce Development Center. They will discuss the advocacy of the Chamber\, what SCORE/SBDC is\, volunteering and being a part of committees\, Ribbon Cuttings for new businesses\, Member News\, and Radio and Marketing opportunities. This is a great opportunity to build and develop your membership and involvement with the Chamber.&nbsp\;</span></span></span><br />\n&nbsp\;</p>\n<strong><span style="font-size: 14px\;"><span style="text-align: left\; color: rgb(51\, 51\, 51)\; text-transform: none\; text-indent: 0px\; letter-spacing: normal\; font-family: arial\; font-style: normal\; font-variant: normal\; font-weight: 400\; text-decoration: none\; word-spacing: 0px\; float: none\; display: inline !important\; white-space: normal\; orphans: 2\; background-color: transparent\; -webkit-text-stroke-width: 0px\;"><span style="font-size: 18px\;"><span style="font-family: times new roman\;">Sponsored by</span></span>: </span></span></strong><span style="font-size: 14px\;"><span style="font-family: times new roman\;"><a href="http://srddlaw.com/" style="text-align: left\; color: rgb(7\, 130\, 193)\; text-transform: none\; text-indent: 0px\; letter-spacing: normal\; font-family: arial\; font-size: 16px\; font-style: normal\; font-variant: normal\; font-weight: 400\; text-decoration: underline\; word-spacing: 0px\; white-space: normal\; orphans: 2\; background-color: transparent\; -webkit-text-stroke-width: 0px\;" target="_blank"><span style="color: rgb(0\, 0\, 255)\;">Stenger\, Roberts\, Davis &amp\; Diamond\, LLP</span></a></span><span style="text-align: left\; color: rgb(51\, 51\, 51)\; text-transform: none\; text-indent: 0px\; letter-spacing: normal\; font-family: arial\; font-style: normal\; font-variant: normal\; font-weight: 400\; text-decoration: none\; word-spacing: 0px\; float: none\; display: inline !important\; white-space: normal\; orphans: 2\; background-color: transparent\; -webkit-text-stroke-width: 0px\;"> </span></span><strong><span style="font-size: 14px\;"><span style="text-align: left\; color: rgb(51\, 51\, 51)\; text-transform: none\; text-indent: 0px\; letter-spacing: normal\; font-family: arial\; font-style: normal\; font-variant: normal\; font-weight: 400\; text-decoration: none\; word-spacing: 0px\; float: none\; display: inline !important\; white-space: normal\; orphans: 2\; background-color: transparent\; -webkit-text-stroke-width: 0px\;">and </span><span style="font-family: times new roman\;"><a href="https://www.rondoutbank.com/" style="text-align: left\; color: rgb(7\, 130\, 193)\; text-transform: none\; text-indent: 0px\; letter-spacing: normal\; font-family: arial\; font-size: 16px\; font-style: normal\; font-variant: normal\; font-weight: 400\; text-decoration: underline\; word-spacing: 0px\; white-space: normal\; orphans: 2\; background-color: transparent\; -webkit-text-stroke-width: 0px\;" target="_blank"><span style="color: rgb(0\, 0\, 255)\;">Rondout Savings Bank</span></a></span></span></strong>
LOCATION:The Poughkeepsie Grand Hotel and Conference Center 40 Civic Center Plaza\, Poughkeepsie\, NY 12601
UID:e.2770.10479880
SEQUENCE:3
DTSTAMP:20260423T025108Z
URL:https://business.dcrcoc.org/events/details/business-education-seminar-10479880
END:VEVENT

END:VCALENDAR
